BEGIN:VCALENDAR
VERSION:2.0
PRODID:-//Round the Rock - ECPv6.15.13//NONSGML v1.0//EN
CALSCALE:GREGORIAN
METHOD:PUBLISH
X-ORIGINAL-URL:https://roundtherocktx.com
X-WR-CALDESC:Events for Round the Rock
REFRESH-INTERVAL;VALUE=DURATION:PT1H
X-Robots-Tag:noindex
X-PUBLISHED-TTL:PT1H
BEGIN:VTIMEZONE
TZID:America/Chicago
BEGIN:DAYLIGHT
TZOFFSETFROM:-0600
TZOFFSETTO:-0500
TZNAME:CDT
DTSTART:20240310T080000
END:DAYLIGHT
BEGIN:STANDARD
TZOFFSETFROM:-0500
TZOFFSETTO:-0600
TZNAME:CST
DTSTART:20241103T070000
END:STANDARD
BEGIN:DAYLIGHT
TZOFFSETFROM:-0600
TZOFFSETTO:-0500
TZNAME:CDT
DTSTART:20250309T080000
END:DAYLIGHT
BEGIN:STANDARD
TZOFFSETFROM:-0500
TZOFFSETTO:-0600
TZNAME:CST
DTSTART:20251102T070000
END:STANDARD
BEGIN:DAYLIGHT
TZOFFSETFROM:-0600
TZOFFSETTO:-0500
TZNAME:CDT
DTSTART:20260308T080000
END:DAYLIGHT
BEGIN:STANDARD
TZOFFSETFROM:-0500
TZOFFSETTO:-0600
TZNAME:CST
DTSTART:20261101T070000
END:STANDARD
END:VTIMEZONE
BEGIN:VEVENT
DTSTART;TZID=America/Chicago:20251216T173000
DTEND;TZID=America/Chicago:20251216T173000
DTSTAMP:20260419T113208
CREATED:20251017T201525Z
LAST-MODIFIED:20251017T201525Z
UID:10006892-1765906200-1765906200@roundtherocktx.com
SUMMARY:The Light Park @ Dell Diamond
DESCRIPTION:Round Rock! Your favorite holiday drive-thru is set to open on November 7! \nRight now\, save 50% on one ticket for the whole fam when you buy before we open on November 7th; tickets are valid on ANY Monday through Thursday throughout the whole season! \nBuy tickets here! \nSpecial hours during the weeks of Thanksgiving and Christmas.
URL:https://roundtherocktx.com/event/the-light-park-dell-diamond/2025-12-16
LOCATION:Dell Diamond\, 3400 E Palm Valley Blvd\, Round Rock\, TX\, 78665\, United States
CATEGORIES:Family,Free,Kids,Music
ATTACH;FMTTYPE=image/png:https://roundtherocktx.com/wp-content/uploads/2025/10/2025-The-Light-Park-logo-e1760732105501.png
END:VEVENT
BEGIN:VEVENT
DTSTART;TZID=America/Chicago:20251216T180000
DTEND;TZID=America/Chicago:20251216T200000
DTSTAMP:20260419T113208
CREATED:20250115T002839Z
LAST-MODIFIED:20250115T003033Z
UID:10004169-1765908000-1765915200@roundtherocktx.com
SUMMARY:Round Rock Historic Preservation Commission Meeting
DESCRIPTION:The Historic Preservation Commission (HPC) preserves\, protects\, and promotes the City of Round Rock’s historical resources through preservation\, public education\, community partnerships\, and heritage tourism. \nCertificate of Appropriateness submittals due January 7\, 2025. \n\nAgendas\, minutes and meeting videos available at Round Rock Replay.\nMeeting video is also available at roundrocktexas.gov/tv\, as well as on Spectrum channel 10 and U-Verse channel 99.\nPublic notices are posted at www.roundrocktexas.gov/notices.
URL:https://roundtherocktx.com/event/round-rock-historic-preservation-commission-meeting/2025-12-16
LOCATION:Round Rock City Hall\, 221 East Main Street\, Round Rock\, 78664\, United States
CATEGORIES:Business,Family,Free
ATTACH;FMTTYPE=image/png:https://roundtherocktx.com/wp-content/uploads/2025/01/City-of-Round-Rock-Historic-Preservation.png
END:VEVENT
END:VCALENDAR