BEGIN:VCALENDAR
VERSION:2.0
PRODID:-//Round the Rock - ECPv6.15.13//NONSGML v1.0//EN
CALSCALE:GREGORIAN
METHOD:PUBLISH
X-WR-CALNAME:Round the Rock
X-ORIGINAL-URL:https://roundtherocktx.com
X-WR-CALDESC:Events for Round the Rock
REFRESH-INTERVAL;VALUE=DURATION:PT1H
X-Robots-Tag:noindex
X-PUBLISHED-TTL:PT1H
BEGIN:VTIMEZONE
TZID:America/Chicago
BEGIN:DAYLIGHT
TZOFFSETFROM:-0600
TZOFFSETTO:-0500
TZNAME:CDT
DTSTART:20240310T080000
END:DAYLIGHT
BEGIN:STANDARD
TZOFFSETFROM:-0500
TZOFFSETTO:-0600
TZNAME:CST
DTSTART:20241103T070000
END:STANDARD
BEGIN:DAYLIGHT
TZOFFSETFROM:-0600
TZOFFSETTO:-0500
TZNAME:CDT
DTSTART:20250309T080000
END:DAYLIGHT
BEGIN:STANDARD
TZOFFSETFROM:-0500
TZOFFSETTO:-0600
TZNAME:CST
DTSTART:20251102T070000
END:STANDARD
BEGIN:DAYLIGHT
TZOFFSETFROM:-0600
TZOFFSETTO:-0500
TZNAME:CDT
DTSTART:20260308T080000
END:DAYLIGHT
BEGIN:STANDARD
TZOFFSETFROM:-0500
TZOFFSETTO:-0600
TZNAME:CST
DTSTART:20261101T070000
END:STANDARD
END:VTIMEZONE
BEGIN:VEVENT
DTSTART;TZID=America/Chicago:20251220T090000
DTEND;TZID=America/Chicago:20251220T150000
DTSTAMP:20260425T061217
CREATED:20250404T170345Z
LAST-MODIFIED:20250404T170345Z
UID:10005232-1766221200-1766242800@roundtherocktx.com
SUMMARY:Hutto Market Days
DESCRIPTION:Come shop amazing local vendors and artisans at our market. We are in Hutto on the 3rd Saturday of every month (March -December). Our family-friendly event is one you do not want to miss. \nDates: 3rd Saturday of each month (March-December)\nTime: 9:00 AM to 3:00 PM\nLocation: Gin at the Hutto Co-Op\, 420 US-79\, Hutto\, TX 78634\n\nHosted by: Urban Bloom Markets\nEmail: urbanbloommarkets@gmail.com
URL:https://roundtherocktx.com/event/outside-the-rock-hutto-market-days-2/2025-12-20
LOCATION:Gin at the Hutto Co-Op\, 420 US-79\, Hutto\, TX\, 78634\, United States
CATEGORIES:Business,Family,Free
ATTACH;FMTTYPE=image/png:https://roundtherocktx.com/wp-content/uploads/2024/12/2025-Hutto-Market-Days.png
END:VEVENT
BEGIN:VEVENT
DTSTART;TZID=America/Chicago:20251220T100000
DTEND;TZID=America/Chicago:20251220T160000
DTSTAMP:20260425T061217
CREATED:20251017T152921Z
LAST-MODIFIED:20251017T152921Z
UID:10006851-1766224800-1766246400@roundtherocktx.com
SUMMARY:Almost Everything Pop Up Market
DESCRIPTION:Come visit the Almost Everything Market on October 18th! The market is held on the third Saturday of each month from 10:00 a.m. to 4:00 p.m. and features local makers\, artisans\, bakers\, small businesses\, and has kid-friendly entertainment.\n\nShop from a variety of talented vendors\, including woodworking\, jewelry\, original paintings\, photography\, pottery\, toymakers\, soap makers\, knitting/crochet\, embroidery\, bakers\, and more!\n\nThank you for supporting local businesses & building our community with us!
URL:https://roundtherocktx.com/event/almost-everything-pop-up-market/2025-12-20
LOCATION:Old Settlers Association of Williamson County\, 3300 Palm Valley Boulevard\, Round Rock\, TX\, 78665\, United States
CATEGORIES:Business,Family,Free,Kids
ATTACH;FMTTYPE=image/png:https://roundtherocktx.com/wp-content/uploads/2025/10/Screenshot-2025-10-17-101323-e1760714098844.png
END:VEVENT
BEGIN:VEVENT
DTSTART;TZID=America/Chicago:20251220T173000
DTEND;TZID=America/Chicago:20251220T173000
DTSTAMP:20260425T061217
CREATED:20251017T201525Z
LAST-MODIFIED:20251017T201525Z
UID:10006896-1766251800-1766251800@roundtherocktx.com
SUMMARY:The Light Park @ Dell Diamond
DESCRIPTION:Round Rock! Your favorite holiday drive-thru is set to open on November 7! \nRight now\, save 50% on one ticket for the whole fam when you buy before we open on November 7th; tickets are valid on ANY Monday through Thursday throughout the whole season! \nBuy tickets here! \nSpecial hours during the weeks of Thanksgiving and Christmas.
URL:https://roundtherocktx.com/event/the-light-park-dell-diamond/2025-12-20
LOCATION:Dell Diamond\, 3400 E Palm Valley Blvd\, Round Rock\, TX\, 78665\, United States
CATEGORIES:Family,Free,Kids,Music
ATTACH;FMTTYPE=image/png:https://roundtherocktx.com/wp-content/uploads/2025/10/2025-The-Light-Park-logo-e1760732105501.png
END:VEVENT
BEGIN:VEVENT
DTSTART;TZID=America/Chicago:20251220T203000
DTEND;TZID=America/Chicago:20251220T203000
DTSTAMP:20260425T061217
CREATED:20251031T182112Z
LAST-MODIFIED:20251031T182112Z
UID:10006934-1766262600-1766262600@roundtherocktx.com
SUMMARY:"In the Shadows" Round Rock Ghost Tour
DESCRIPTION:Meet us after dark as we stroll the historic streets and haunted alleys of downtown Round Rock. Who are the gunslingers still lurking around corners? Why are the ghost riders still galloping through “New Town?” Are these spectres stuck – unable to leave the site of their demise? \nGhosts and Gunfights\, Poltergeists and Apparitions\, In the Shadows uncovers all of the macabre secrets of Round Rock’s Wild West past. Historic downtown Round Rock\, Texas\, is alive with bars\, restaurants\, and live music; however\, the Charming Small Texas Town’s past still haunts the old buildings and alleys\, preserving Round Rock’s history In The Shadows. In the Shadows is Spell Caster’s Round Rock Ghost Tour. Join Spell Caster Ghost Tours as we dive into Round Rock’s Legends\, Lore\, and Dark History to uncover “New Town’s” Hauntings of yesterday and today. \n\nIn the Shadows Ghost Tour strolls  Friday & Saturday evenings\, 8:30 PM\nThe tour is approximately 75-90 minutes and covers less than a mile.\nPrice: $23.95 for Adults; $20.95 for Seniors\, Military\, & First Responders\nIn the Shadows meets on the Front Porch of UnEarthed Rock Shop 15 minutes before the start time.\n\nUnEarthed\n100 E Main Street\nRound Rock\, TX 78664\nhttps://maps.app.goo.gl/EZ7VhUKwBFQWysD8A
URL:https://roundtherocktx.com/event/in-the-shadows-round-rock-ghost-tour/2025-12-20
CATEGORIES:21 and up,Music
ATTACH;FMTTYPE=image/png:https://roundtherocktx.com/wp-content/uploads/2025/10/Screenshot-2025-10-18-185852.png
END:VEVENT
END:VCALENDAR