BEGIN:VCALENDAR
VERSION:2.0
PRODID:-//Round the Rock - ECPv6.15.13//NONSGML v1.0//EN
CALSCALE:GREGORIAN
METHOD:PUBLISH
X-WR-CALNAME:Round the Rock
X-ORIGINAL-URL:https://roundtherocktx.com
X-WR-CALDESC:Events for Round the Rock
REFRESH-INTERVAL;VALUE=DURATION:PT1H
X-Robots-Tag:noindex
X-PUBLISHED-TTL:PT1H
BEGIN:VTIMEZONE
TZID:America/Chicago
BEGIN:DAYLIGHT
TZOFFSETFROM:-0600
TZOFFSETTO:-0500
TZNAME:CDT
DTSTART:20250309T080000
END:DAYLIGHT
BEGIN:STANDARD
TZOFFSETFROM:-0500
TZOFFSETTO:-0600
TZNAME:CST
DTSTART:20251102T070000
END:STANDARD
BEGIN:DAYLIGHT
TZOFFSETFROM:-0600
TZOFFSETTO:-0500
TZNAME:CDT
DTSTART:20260308T080000
END:DAYLIGHT
BEGIN:STANDARD
TZOFFSETFROM:-0500
TZOFFSETTO:-0600
TZNAME:CST
DTSTART:20261101T070000
END:STANDARD
BEGIN:DAYLIGHT
TZOFFSETFROM:-0600
TZOFFSETTO:-0500
TZNAME:CDT
DTSTART:20270314T080000
END:DAYLIGHT
BEGIN:STANDARD
TZOFFSETFROM:-0500
TZOFFSETTO:-0600
TZNAME:CST
DTSTART:20271107T070000
END:STANDARD
END:VTIMEZONE
BEGIN:VEVENT
DTSTART;VALUE=DATE:20260419
DTEND;VALUE=DATE:20260421
DTSTAMP:20260425T065855
CREATED:20260217T220649Z
LAST-MODIFIED:20260217T220729Z
UID:10007761-1776560400-1776646799@roundtherocktx.com
SUMMARY:Charlotte's Web @ Zach
DESCRIPTION:After Fern saves Wilbur\, the runt of the litter\, it’s up to Charlotte the spider to spin a web of miracles. Featuring live bluegrass music and breathtaking aerial artistry\, this timeless tale of hope soars to new heights on stage. \nAge Recommendation: Ages 5 and up \nRun Time: 50 minutes with no intermission \nShows on Saturdays at 11am and Sundays at 2:30pm \nTICKETING AND SUBSCRIPTIONS: \nSingle tickets start at $21 (Youth) and $31 (Adults) and are available online at zachtheater.org\, or by phone at 512-476-0541 Tuesday through Friday\, 12–5 p.m. Free\, short-term\, and convenient parking is available at the front entrance. Zach Theater is wheelchair accessible. A limited number of Pay What You Wish tickets are available the first week of the performances only. Groups of 8 or more may request reservations by calling 512-476-0541 x126 or by emailing groupsales@zachtheater.org.
URL:https://roundtherocktx.com/event/charlottes-web-zach/2026-04-19
LOCATION:The Kleberg at Zach\, 1421 W Riverside Dr.\, Austin\, 78704\, United States
CATEGORIES:Family,Kids,Music
ATTACH;FMTTYPE=image/jpeg:https://roundtherocktx.com/wp-content/uploads/2026/02/Charlottes-Web-Key-Art-Update-w-Footer-e1770395138643.jpg
END:VEVENT
BEGIN:VEVENT
DTSTART;TZID=America/Chicago:20260419T110000
DTEND;TZID=America/Chicago:20260419T220000
DTSTAMP:20260425T065855
CREATED:20251011T132706Z
LAST-MODIFIED:20251011T132706Z
UID:10006770-1776596400-1776636000@roundtherocktx.com
SUMMARY:Two Step Inn Festival
DESCRIPTION:Two Step Inn is the World’s Largest Outdoor Honky Tonk held each April at the beautiful San Gabriel Park in Georgetown\, TX. With 30 artists across 3 stages and multiple dance floors\, this event is the ultimate country music festival! \nTwo Step Inn takes place from Saturday\, April 18\, 2026 to Sunday\, April 19\, 2026 at San Gabriel Park – 445 E Morrow St\, Georgetown\, TX 78626. The festival’s scheduled gates open and close each day at the following times: \nOpening Times – \n\nSaturday\, April 18\, 2026 – 11AM CT\nSunday\, April 19\, 2026 – 11AM CT\n\nClosing Times – \n\nSaturday\, April 18\, 2026 – 10PM CT\nSunday\, April 19\, 2026 – 10PM CT\n\nPurchase tickets here.
URL:https://roundtherocktx.com/event/two-step-inn-festival/2026-04-19
LOCATION:San Gabriel Park\, 445 E Morrow St\, Georgetown\, 78626\, United States
CATEGORIES:Family,Music
ATTACH;FMTTYPE=image/png:https://roundtherocktx.com/wp-content/uploads/2025/10/2026-Two-Step-Inn-GT-Concert-e1760188948762.png
END:VEVENT
BEGIN:VEVENT
DTSTART;TZID=America/Chicago:20260419T120000
DTEND;TZID=America/Chicago:20260419T180000
DTSTAMP:20260425T065855
CREATED:20260316T165909Z
LAST-MODIFIED:20260316T165909Z
UID:10008271-1776600000-1776621600@roundtherocktx.com
SUMMARY:Round Rock Margarita Festival
DESCRIPTION:Who has the best margarita in Round Rock? You decide! This isn’t just any festival—it’s the ultimate margarita tasting competition\, and YOU are the judge. Join 2\,500 margarita lovers for a flavor-packed showdown to crown THE BEST MARGARITA in Round Rock.  \nHere’s how it works: Your entry ticket (grab yours now for the best deal!) includes TEN 3.5oz margarita samples—the largest pours allowed by law—each served over ice by Round Rock’s top bars and restaurants. 🧂 From sweet and sultry\, to spicy and bold\, to wild\, out-of-this-world creations—you decide who shakes it best. 🍋 \nThe winning bar or restaurant walks away with $1\,000 and ultimate bragging rights.
URL:https://roundtherocktx.com/event/round-rock-margarita-festival
LOCATION:The Crossover\, 1717 Scottsdale Drive\, Cedar Park\, 78613\, United States
CATEGORIES:21 and up,Business,Music
ATTACH;FMTTYPE=image/png:https://roundtherocktx.com/wp-content/uploads/2026/03/Screenshot-2026-03-13-150128-e1773680345158.png
END:VEVENT
END:VCALENDAR