BEGIN:VCALENDAR
VERSION:2.0
PRODID:-//Round the Rock - ECPv6.15.13//NONSGML v1.0//EN
CALSCALE:GREGORIAN
METHOD:PUBLISH
X-WR-CALNAME:Round the Rock
X-ORIGINAL-URL:https://roundtherocktx.com
X-WR-CALDESC:Events for Round the Rock
REFRESH-INTERVAL;VALUE=DURATION:PT1H
X-Robots-Tag:noindex
X-PUBLISHED-TTL:PT1H
BEGIN:VTIMEZONE
TZID:America/Chicago
BEGIN:DAYLIGHT
TZOFFSETFROM:-0600
TZOFFSETTO:-0500
TZNAME:CDT
DTSTART:20250309T080000
END:DAYLIGHT
BEGIN:STANDARD
TZOFFSETFROM:-0500
TZOFFSETTO:-0600
TZNAME:CST
DTSTART:20251102T070000
END:STANDARD
BEGIN:DAYLIGHT
TZOFFSETFROM:-0600
TZOFFSETTO:-0500
TZNAME:CDT
DTSTART:20260308T080000
END:DAYLIGHT
BEGIN:STANDARD
TZOFFSETFROM:-0500
TZOFFSETTO:-0600
TZNAME:CST
DTSTART:20261101T070000
END:STANDARD
BEGIN:DAYLIGHT
TZOFFSETFROM:-0600
TZOFFSETTO:-0500
TZNAME:CDT
DTSTART:20270314T080000
END:DAYLIGHT
BEGIN:STANDARD
TZOFFSETFROM:-0500
TZOFFSETTO:-0600
TZNAME:CST
DTSTART:20271107T070000
END:STANDARD
END:VTIMEZONE
BEGIN:VEVENT
DTSTART;TZID=America/Chicago:20260421T090000
DTEND;TZID=America/Chicago:20260421T120000
DTSTAMP:20260423T052635
CREATED:20260317T133902Z
LAST-MODIFIED:20260317T133902Z
UID:10008290-1776762000-1776772800@roundtherocktx.com
SUMMARY:Williamson County Art Guild: Art Class
DESCRIPTION:Painting Faces: watercolor portraiture. Jennifer Polnaszek will lead this class designed for beginners to intermediates. You will learn the basic skills of watercolor portraiture.\n\n\nCost: $175 WCAG members\, $210 nonmember seniors\, $220 nonmembers \n\n\nStudents will be given a supply list to purchase before the first class. \n\n\nLocation:\nProject NEST\n2201 Old Airport Rd\nGeorgetown\, TX 78626 \n\n\n\n\n\nContact Jennifer at jennifer.presidentelect@wcagtx.org for information and to register \n\n\n\nFor more information about the Guild’s 50th Anniversary events\, membership\, or exhibitions\, please or visit the Gallery during open hours or online at www.wcagtx.org.
URL:https://roundtherocktx.com/event/williamson-county-art-guild-art-class-3/2026-04-21
CATEGORIES:Family,Kids,Nonprofit
ATTACH;FMTTYPE=image/webp:https://roundtherocktx.com/wp-content/uploads/2026/03/2026-Williamson-County-Art-Guild-Logo.webp
END:VEVENT
BEGIN:VEVENT
DTSTART;TZID=America/Chicago:20260421T113000
DTEND;TZID=America/Chicago:20260421T130000
DTSTAMP:20260423T052635
CREATED:20260413T214647Z
LAST-MODIFIED:20260413T214736Z
UID:10008431-1776771000-1776776400@roundtherocktx.com
SUMMARY:Hometown Parklet Shows
DESCRIPTION:Tasty tunes for every appetite at this spring’s Hometown Lunchtime Parklet Shows! Our spring music series spans March 31–June 25\, 2026\, featuring free live performances every Tuesday and Thursday from 11:30 a.m.–1:00 p.m. in and around the Downtown Round Rock Parklets. \nHosted by the City of Round Rock Arts and Culture\, the series showcases everything from blues to bluegrass and jazz to folk\, country\, and a variety of music from around the world too. Grab your lunch or an iced coffee and enjoy a mid-day music break with us! \nSee the full schedule here.
URL:https://roundtherocktx.com/event/hometown-parklet-shows/2026-04-21
LOCATION:Downtown Round Rock\, 221 E. Main Street\, Round Rock\, 78664\, United States
CATEGORIES:Family,Kids,Music
ATTACH;FMTTYPE=image/jpeg:https://roundtherocktx.com/wp-content/uploads/2026/04/2026-Hometown-Parklet-Show-Logo-e1776116780500.jpg
ORGANIZER;CN="Round Rock Arts & Culture":MAILTO:swilkinson@roundrocktexas.gov
END:VEVENT
BEGIN:VEVENT
DTSTART;TZID=America/Chicago:20260421T180000
DTEND;TZID=America/Chicago:20260421T200000
DTSTAMP:20260423T052635
CREATED:20260224T044220Z
LAST-MODIFIED:20260224T044220Z
UID:10007961-1776794400-1776801600@roundtherocktx.com
SUMMARY:Taste of Round Rock
DESCRIPTION:The most delicious night of the year is back! Mark your calendar for Taste of Round Rock on April 21\, 6-8 p.m. at the Round Rock Sports Center. Voted the 2025 Best of Round Rock Best Food Event/Festival\, this community favorite is the perfect chance to sample fabulous food\, drinks\, and desserts from 35+ area restaurants with friends\, family\, and 1\,000 fellow foodies. \nGrab your tickets today!!
URL:https://roundtherocktx.com/event/taste-of-round-rock
LOCATION:Round Rock Sports Center\, 2400 Chisholm Trail\, Round Rock\, 78681\, United States
CATEGORIES:Business,Family
ATTACH;FMTTYPE=image/jpeg:https://roundtherocktx.com/wp-content/uploads/2026/02/unnamed-e1771908006525.jpg
END:VEVENT
END:VCALENDAR