BEGIN:VCALENDAR
VERSION:2.0
PRODID:-//Round the Rock - ECPv6.15.13//NONSGML v1.0//EN
CALSCALE:GREGORIAN
METHOD:PUBLISH
X-ORIGINAL-URL:https://roundtherocktx.com
X-WR-CALDESC:Events for Round the Rock
REFRESH-INTERVAL;VALUE=DURATION:PT1H
X-Robots-Tag:noindex
X-PUBLISHED-TTL:PT1H
BEGIN:VTIMEZONE
TZID:America/Chicago
BEGIN:DAYLIGHT
TZOFFSETFROM:-0600
TZOFFSETTO:-0500
TZNAME:CDT
DTSTART:20230312T080000
END:DAYLIGHT
BEGIN:STANDARD
TZOFFSETFROM:-0500
TZOFFSETTO:-0600
TZNAME:CST
DTSTART:20231105T070000
END:STANDARD
BEGIN:DAYLIGHT
TZOFFSETFROM:-0600
TZOFFSETTO:-0500
TZNAME:CDT
DTSTART:20240310T080000
END:DAYLIGHT
BEGIN:STANDARD
TZOFFSETFROM:-0500
TZOFFSETTO:-0600
TZNAME:CST
DTSTART:20241103T070000
END:STANDARD
BEGIN:DAYLIGHT
TZOFFSETFROM:-0600
TZOFFSETTO:-0500
TZNAME:CDT
DTSTART:20250309T080000
END:DAYLIGHT
BEGIN:STANDARD
TZOFFSETFROM:-0500
TZOFFSETTO:-0600
TZNAME:CST
DTSTART:20251102T070000
END:STANDARD
END:VTIMEZONE
BEGIN:VEVENT
DTSTART;TZID=America/Chicago:20241102T180000
DTEND;TZID=America/Chicago:20241102T220000
DTSTAMP:20260425T110759
CREATED:20240804T164040Z
LAST-MODIFIED:20240804T164040Z
UID:10001479-1730570400-1730584800@roundtherocktx.com
SUMMARY:Outside the Rock: 15th Annual Fur Ball 2024
DESCRIPTION:The Williamson County Regional Animal Shelter is hrilled to invite you to our 15th annual fundraising gala\, our biggest event each year\, to raise funds to benefit the lives of our dogs and cats.\nFunds raised at this year’s Fur Ball will be used to support our culture of fostering in all its different forms. From our foster families to our foster supervisor\, our health and administrative supervisors\, our lifesaving and health specialists – everyone who has an immediate impact on each and every dog or cat who is a part of our fostering program will benefit thanks to your generosity and vision to help us continue to grow with our community! \n\nYour ticket purchase includes access to our LIVE event. You’ll enjoy dinner and receive one free drink ticket per person. The silent and live auctions will be featured again this year\, along with the ever-popular Wine Toss\, and more! See below for ticketing & sponsorship information. \n\nWhere: Sheraton Austin Georgetown Hotel & Conference Center\nWhen: Saturday\, November 2nd\, 2024\, 6-10pm\nAttire: Cocktail to formal.\nKindly note that this event is for those 21 and above. \nTICKETS: \nIndividual  – $130\nCouples – $210\nHalf Table – $750\nFull Table – $1\,500\nPurchase tickets here: https://WCRASFurBall24.givesmart.com\n\n\n\nWe’ve brought back early bird pricing. Purchase your tickets or tables by August 31st to save 10%. Use code FurBall10 at checkout to take advantage of the special pricing.\n\nPurchase sponsorships here: https://WCRASFurBall24.givesmart.com Questions about sponsorships? Email april.peiffer@wilco.org.
URL:https://roundtherocktx.com/event/outside-the-rock-15th-annual-fur-ball-2024
LOCATION:Sheraton Georgetown Hotel & Conference Center\, 1101 Woodlawn Avenue\, Georgetown\, TX\, 78628\, United States
CATEGORIES:21 and up,Nonprofit
ATTACH;FMTTYPE=image/png:https://roundtherocktx.com/wp-content/uploads/2024/08/Untitled-design-16.png
END:VEVENT
END:VCALENDAR