BEGIN:VCALENDAR
VERSION:2.0
PRODID:-//Round the Rock - ECPv6.15.13//NONSGML v1.0//EN
CALSCALE:GREGORIAN
METHOD:PUBLISH
X-WR-CALNAME:Round the Rock
X-ORIGINAL-URL:https://roundtherocktx.com
X-WR-CALDESC:Events for Round the Rock
REFRESH-INTERVAL;VALUE=DURATION:PT1H
X-Robots-Tag:noindex
X-PUBLISHED-TTL:PT1H
BEGIN:VTIMEZONE
TZID:America/Chicago
BEGIN:DAYLIGHT
TZOFFSETFROM:-0600
TZOFFSETTO:-0500
TZNAME:CDT
DTSTART:20230312T080000
END:DAYLIGHT
BEGIN:STANDARD
TZOFFSETFROM:-0500
TZOFFSETTO:-0600
TZNAME:CST
DTSTART:20231105T070000
END:STANDARD
BEGIN:DAYLIGHT
TZOFFSETFROM:-0600
TZOFFSETTO:-0500
TZNAME:CDT
DTSTART:20240310T080000
END:DAYLIGHT
BEGIN:STANDARD
TZOFFSETFROM:-0500
TZOFFSETTO:-0600
TZNAME:CST
DTSTART:20241103T070000
END:STANDARD
BEGIN:DAYLIGHT
TZOFFSETFROM:-0600
TZOFFSETTO:-0500
TZNAME:CDT
DTSTART:20250309T080000
END:DAYLIGHT
BEGIN:STANDARD
TZOFFSETFROM:-0500
TZOFFSETTO:-0600
TZNAME:CST
DTSTART:20251102T070000
END:STANDARD
END:VTIMEZONE
BEGIN:VEVENT
DTSTART;TZID=America/Chicago:20241114T173000
DTEND;TZID=America/Chicago:20241114T203000
DTSTAMP:20260419T072420
CREATED:20240907T194443Z
LAST-MODIFIED:20240907T194443Z
UID:10002288-1731605400-1731616200@roundtherocktx.com
SUMMARY:Girl's Just Wanna Have Fun - 80's Edition
DESCRIPTION:Ladies\, it’s time to break out those leg warmers\, tease that hair\, and dust off your neon accessories because The Ring and Baxter’s Salon are teaming up to bring you the most anticipated event of the year—our epic Ladies Night!\n\nDate: November 14th\, 2024Time: 5:30 PM – 8:30 PMLocation: The Ring\n\nGrab your girls and join us for an evening of 80’s fun and fashion! The first 50 ladies through the door will score an exclusive gift bag\, so be sure to arrive early. Once inside\, you’ll enjoy door prizes\, exciting drawings\, and deals that are totally tubular.\nDon’t forget to create your Holiday wishlist so Santa knows exactly what to bring you this year! And that’s not all—we’ve got some rad surprises in store. Show up in your 80’s best for a chance to win fun prizes for categories like Best Dressed and more!\nWe’ll keep you fueled with light bites\, wine\, beer\, and soft drinks. And one lucky lady will walk away with the ultimate prize—a shopping spree at The Ring!\nSo\, crank up the Cyndi Lauper\, bring your 80’s “A” game\, and let’s make this a night to remember. See you there!\nLet’s get this 80’s party started
URL:https://roundtherocktx.com/event/girls-just-wanna-have-fun-80s-edition
LOCATION:The Ring\, 110 E Anderson Lane\, Suite 100\, Round Rock\, 78664\, United States
CATEGORIES:21 and up,Free
ATTACH;FMTTYPE=image/jpeg:https://roundtherocktx.com/wp-content/uploads/2024/09/Girls-Just-Wanna-Have-fun-Day-2024.jpg
END:VEVENT
END:VCALENDAR