BEGIN:VCALENDAR
VERSION:2.0
PRODID:-//Round the Rock - ECPv6.15.13//NONSGML v1.0//EN
CALSCALE:GREGORIAN
METHOD:PUBLISH
X-WR-CALNAME:Round the Rock
X-ORIGINAL-URL:https://roundtherocktx.com
X-WR-CALDESC:Events for Round the Rock
REFRESH-INTERVAL;VALUE=DURATION:PT1H
X-Robots-Tag:noindex
X-PUBLISHED-TTL:PT1H
BEGIN:VTIMEZONE
TZID:America/Chicago
BEGIN:DAYLIGHT
TZOFFSETFROM:-0600
TZOFFSETTO:-0500
TZNAME:CDT
DTSTART:20250309T080000
END:DAYLIGHT
BEGIN:STANDARD
TZOFFSETFROM:-0500
TZOFFSETTO:-0600
TZNAME:CST
DTSTART:20251102T070000
END:STANDARD
BEGIN:DAYLIGHT
TZOFFSETFROM:-0600
TZOFFSETTO:-0500
TZNAME:CDT
DTSTART:20260308T080000
END:DAYLIGHT
BEGIN:STANDARD
TZOFFSETFROM:-0500
TZOFFSETTO:-0600
TZNAME:CST
DTSTART:20261101T070000
END:STANDARD
BEGIN:DAYLIGHT
TZOFFSETFROM:-0600
TZOFFSETTO:-0500
TZNAME:CDT
DTSTART:20270314T080000
END:DAYLIGHT
BEGIN:STANDARD
TZOFFSETFROM:-0500
TZOFFSETTO:-0600
TZNAME:CST
DTSTART:20271107T070000
END:STANDARD
END:VTIMEZONE
BEGIN:VEVENT
DTSTART;TZID=America/Chicago:20260421T180000
DTEND;TZID=America/Chicago:20260421T200000
DTSTAMP:20260425T065805
CREATED:20260224T044220Z
LAST-MODIFIED:20260224T044220Z
UID:10007961-1776794400-1776801600@roundtherocktx.com
SUMMARY:Taste of Round Rock
DESCRIPTION:The most delicious night of the year is back! Mark your calendar for Taste of Round Rock on April 21\, 6-8 p.m. at the Round Rock Sports Center. Voted the 2025 Best of Round Rock Best Food Event/Festival\, this community favorite is the perfect chance to sample fabulous food\, drinks\, and desserts from 35+ area restaurants with friends\, family\, and 1\,000 fellow foodies. \nGrab your tickets today!!
URL:https://roundtherocktx.com/event/taste-of-round-rock
LOCATION:Round Rock Sports Center\, 2400 Chisholm Trail\, Round Rock\, 78681\, United States
CATEGORIES:Business,Family
ATTACH;FMTTYPE=image/jpeg:https://roundtherocktx.com/wp-content/uploads/2026/02/unnamed-e1771908006525.jpg
END:VEVENT
BEGIN:VEVENT
DTSTART;TZID=America/Chicago:20260424T190000
DTEND;TZID=America/Chicago:20260424T193000
DTSTAMP:20260425T065805
CREATED:20260223T192103Z
LAST-MODIFIED:20260223T235404Z
UID:10007954-1777057200-1777059000@roundtherocktx.com
SUMMARY:The SpongeBob Musical: Youth Edition
DESCRIPTION:Join us in Bikini Bottom for The SpongeBob Musical: Youth Edition\, a vibrant\, hilarious\, and heart-filled adventure the whole family will love. Follow SpongeBob and friends as they band together to save their home in a high-energy production packed with bold characters\, catchy songs\, and show-stopping dance numbers. \nWith colorful costumes\, big laughs\, and an uplifting message about friendship and perseverance\, this underwater musical spectacular is perfect for audiences of all ages. Don’t miss your chance to experience the magic live on stage! \nThis event is a production of Birchwood Performing Arts. Penfold Theatre season memberships do not apply. For help and information\, please contact (737) 252-6652 or info@birchwoodperformingarts.com.
URL:https://roundtherocktx.com/event/the-spongebob-musical-youth-edition
LOCATION:Penfold Theatre\, 2120 N Mays St\, #290\, Round Rock\, TX\, 78664\, United States
CATEGORIES:Business,Family,Kids,Music
ATTACH;FMTTYPE=image/jpeg:https://roundtherocktx.com/wp-content/uploads/2026/02/2026-Penfold-Spongebob-e1771874151413.jpg
END:VEVENT
BEGIN:VEVENT
DTSTART;TZID=America/Chicago:20260425T100000
DTEND;TZID=America/Chicago:20260425T140000
DTSTAMP:20260425T065805
CREATED:20260225T002729Z
LAST-MODIFIED:20260225T002729Z
UID:10007978-1777111200-1777125600@roundtherocktx.com
SUMMARY:Round Rock Farmers Market
DESCRIPTION:Health experts\, farmers\, and chefs unanimously advocate for the benefits of seasonal eating\, emphasizing optimal nutrition and value. Proudly offering 100% locally grown\, in-season produce\, our mission is to serve as a premier resource for locally sourced\, responsibly raised food and products in Texas. Our vendors are committed to excellence\, ensuring the highest quality offerings for those in the Round Rock Area.
URL:https://roundtherocktx.com/event/round-rock-farmers-market/2026-04-25
LOCATION:Rock Creek Plaza\, 2111 N Interstate 35\, Round Rock\, 78664\, United States
CATEGORIES:Business,Family,Free,Kids
ATTACH;FMTTYPE=image/webp:https://roundtherocktx.com/wp-content/uploads/2024/02/farmergeorge-Face-1920w-e1771979222712.webp
ORGANIZER;CN="Farmer George Farmers Markets":MAILTO:vendors@farmergeorge.market
END:VEVENT
BEGIN:VEVENT
DTSTART;TZID=America/Chicago:20260425T100000
DTEND;TZID=America/Chicago:20260425T150000
DTSTAMP:20260425T065805
CREATED:20260222T172956Z
LAST-MODIFIED:20260222T172956Z
UID:10007827-1777111200-1777129200@roundtherocktx.com
SUMMARY:Mainly Art
DESCRIPTION:Mainly Art is a vibrant\, free\, outdoor art market held monthly along historic Main Street — with the Spring 2026 season taking place once-a-month from March to June in Prete Plaza and the downtown Paseo — where visitors can stroll through downtown and browse the work of 15 different local visual artists. \nMore than just a shopping opportunity\, Mainly Art fosters a lively community atmosphere where art lovers can meet the creators\, enjoy the charm of Round Rock’s walkable downtown\, and support the local arts scene — making it a favorite stop for families\, visitors\, and longtime locals alike. \nFor artist guidelines and the application for Mainly Art Spring 2026\, please click here. This is a free opportunity for visual artists to sell their art.
URL:https://roundtherocktx.com/event/mainly-art-2/2026-04-25
LOCATION:Main Street Round Rock\, Main Street\, Round Rock\, United States
CATEGORIES:Business,Family,Free,Kids
ATTACH;FMTTYPE=image/jpeg:https://roundtherocktx.com/wp-content/uploads/2026/02/2026-Mainly-Art-flyer-e1771781353448.jpg
ORGANIZER;CN="Round Rock Arts & Culture":MAILTO:swilkinson@roundrocktexas.gov
END:VEVENT
BEGIN:VEVENT
DTSTART;TZID=America/Chicago:20260425T143000
DTEND;TZID=America/Chicago:20260425T143000
DTSTAMP:20260425T065805
CREATED:20260223T232858Z
LAST-MODIFIED:20260224T043838Z
UID:10007960-1777127400-1777127400@roundtherocktx.com
SUMMARY:The SpongeBob Musical: Youth Edition
DESCRIPTION:Join us in Bikini Bottom for The SpongeBob Musical: Youth Edition\, a vibrant\, hilarious\, and heart-filled adventure the whole family will love. Follow SpongeBob and friends as they band together to save their home in a high-energy production packed with bold characters\, catchy songs\, and show-stopping dance numbers. \nWith colorful costumes\, big laughs\, and an uplifting message about friendship and perseverance\, this underwater musical spectacular is perfect for audiences of all ages. Don’t miss your chance to experience the magic live on stage! \nThis event is a production of Birchwood Performing Arts. Penfold Theatre season memberships do not apply. For help and information\, please contact (737) 252-6652 or info@birchwoodperformingarts.com.
URL:https://roundtherocktx.com/event/the-spongebob-musical-youth-edition-2
LOCATION:Penfold Theatre\, 2120 N Mays St\, #290\, Round Rock\, TX\, 78664\, United States
CATEGORIES:Business,Family,Kids,Music
ATTACH;FMTTYPE=image/jpeg:https://roundtherocktx.com/wp-content/uploads/2026/02/2026-Penfold-Spongebob-e1771874151413.jpg
END:VEVENT
BEGIN:VEVENT
DTSTART;TZID=America/Chicago:20260425T190000
DTEND;TZID=America/Chicago:20260425T190000
DTSTAMP:20260425T065805
CREATED:20260223T233005Z
LAST-MODIFIED:20260224T143507Z
UID:10007965-1777143600-1777143600@roundtherocktx.com
SUMMARY:The SpongeBob Musical: Youth Edition
DESCRIPTION:Join us in Bikini Bottom for The SpongeBob Musical: Youth Edition\, a vibrant\, hilarious\, and heart-filled adventure the whole family will love. Follow SpongeBob and friends as they band together to save their home in a high-energy production packed with bold characters\, catchy songs\, and show-stopping dance numbers. \nWith colorful costumes\, big laughs\, and an uplifting message about friendship and perseverance\, this underwater musical spectacular is perfect for audiences of all ages. Don’t miss your chance to experience the magic live on stage! \nThis event is a production of Birchwood Performing Arts. Penfold Theatre season memberships do not apply. For help and information\, please contact (737) 252-6652 or info@birchwoodperformingarts.com.
URL:https://roundtherocktx.com/event/the-spongebob-musical-youth-edition-3
LOCATION:Penfold Theatre\, 2120 N Mays St\, #290\, Round Rock\, TX\, 78664\, United States
CATEGORIES:Business,Family,Kids,Music
ATTACH;FMTTYPE=image/jpeg:https://roundtherocktx.com/wp-content/uploads/2026/02/2026-Penfold-Spongebob-e1771874151413.jpg
END:VEVENT
BEGIN:VEVENT
DTSTART;TZID=America/Chicago:20260426T143000
DTEND;TZID=America/Chicago:20260426T143000
DTSTAMP:20260425T065805
CREATED:20260223T233053Z
LAST-MODIFIED:20260224T143619Z
UID:10007966-1777213800-1777213800@roundtherocktx.com
SUMMARY:The SpongeBob Musical: Youth Edition
DESCRIPTION:Join us in Bikini Bottom for The SpongeBob Musical: Youth Edition\, a vibrant\, hilarious\, and heart-filled adventure the whole family will love. Follow SpongeBob and friends as they band together to save their home in a high-energy production packed with bold characters\, catchy songs\, and show-stopping dance numbers. \nWith colorful costumes\, big laughs\, and an uplifting message about friendship and perseverance\, this underwater musical spectacular is perfect for audiences of all ages. Don’t miss your chance to experience the magic live on stage! \nThis event is a production of Birchwood Performing Arts. Penfold Theatre season memberships do not apply. For help and information\, please contact (737) 252-6652 or info@birchwoodperformingarts.com.
URL:https://roundtherocktx.com/event/the-spongebob-musical-youth-edition-4
LOCATION:Penfold Theatre\, 2120 N Mays St\, #290\, Round Rock\, TX\, 78664\, United States
CATEGORIES:Business,Family,Kids,Music
ATTACH;FMTTYPE=image/jpeg:https://roundtherocktx.com/wp-content/uploads/2026/02/2026-Penfold-Spongebob-e1771874151413.jpg
END:VEVENT
END:VCALENDAR