BEGIN:VCALENDAR
VERSION:2.0
PRODID:-//Round the Rock - ECPv6.15.13//NONSGML v1.0//EN
CALSCALE:GREGORIAN
METHOD:PUBLISH
X-ORIGINAL-URL:https://roundtherocktx.com
X-WR-CALDESC:Events for Round the Rock
REFRESH-INTERVAL;VALUE=DURATION:PT1H
X-Robots-Tag:noindex
X-PUBLISHED-TTL:PT1H
BEGIN:VTIMEZONE
TZID:America/Chicago
BEGIN:DAYLIGHT
TZOFFSETFROM:-0600
TZOFFSETTO:-0500
TZNAME:CDT
DTSTART:20250309T080000
END:DAYLIGHT
BEGIN:STANDARD
TZOFFSETFROM:-0500
TZOFFSETTO:-0600
TZNAME:CST
DTSTART:20251102T070000
END:STANDARD
BEGIN:DAYLIGHT
TZOFFSETFROM:-0600
TZOFFSETTO:-0500
TZNAME:CDT
DTSTART:20260308T080000
END:DAYLIGHT
BEGIN:STANDARD
TZOFFSETFROM:-0500
TZOFFSETTO:-0600
TZNAME:CST
DTSTART:20261101T070000
END:STANDARD
BEGIN:DAYLIGHT
TZOFFSETFROM:-0600
TZOFFSETTO:-0500
TZNAME:CDT
DTSTART:20270314T080000
END:DAYLIGHT
BEGIN:STANDARD
TZOFFSETFROM:-0500
TZOFFSETTO:-0600
TZNAME:CST
DTSTART:20271107T070000
END:STANDARD
END:VTIMEZONE
BEGIN:VEVENT
DTSTART;TZID=America/Chicago:20260504T173000
DTEND;TZID=America/Chicago:20260702T193000
DTSTAMP:20260423T100305
CREATED:20260116T175640Z
LAST-MODIFIED:20260116T175640Z
UID:10007582-1777915800-1783020600@roundtherocktx.com
SUMMARY:Un-Birthday Party
DESCRIPTION:The Round Rock Parks and Recreation Department and Casey’s Circle invite you to the 8th annual UN-Birthday Party! \nEveryone has 1 birthday a year\, which means we have 364 UN-Birthdays! \nIndividuals with disabilities and their families are invited to the Play for All Park for an evening of fun as we celebrate our UN-Birthdays together! The park will be closed to the public so that we can have full access to all of the fun the park has to offer\, as well as lots of extras planned just for attendees.\nEvent is open to all ages with disabilities. \nRegistration Coming Soon! Check the link below.
URL:https://roundtherocktx.com/event/un-birthday-party-2
LOCATION:Play for All Park\, 151 North A.W. Grimes Blvd.\, Round Rock\, TX\, 78665\, United States
CATEGORIES:Family,Kids
ATTACH;FMTTYPE=image/png:https://roundtherocktx.com/wp-content/uploads/2025/01/UN-Birthday-Header.png
END:VEVENT
BEGIN:VEVENT
DTSTART;TZID=America/Chicago:20260614T100000
DTEND;TZID=America/Chicago:20260614T140000
DTSTAMP:20260423T100305
CREATED:20260413T211619Z
LAST-MODIFIED:20260413T211619Z
UID:10008404-1781431200-1781445600@roundtherocktx.com
SUMMARY:7th Annual Midsommar
DESCRIPTION:Midsommar is one of Sweden’s most joyous and traditional festivals. Come celebrate the summer season and Swedish heritage at the Old Settlers Association in Round Rock! Make flower crowns and dance around the midsommar pole at this free\, family event. Old Settlers Association is located at 3300 E. Palm Valley Blvd. For more information\, please call 512-943-1670.
URL:https://roundtherocktx.com/event/7th-annual-midsommar
LOCATION:Old Settlers Association of Williamson County\, 3300 Palm Valley Boulevard\, Round Rock\, TX\, 78665\, United States
CATEGORIES:Family,Free,Kids,Nonprofit
ATTACH;FMTTYPE=image/png:https://roundtherocktx.com/wp-content/uploads/2026/04/2026-7th-Annual-Midsommar-e1776114947470.png
END:VEVENT
BEGIN:VEVENT
DTSTART;TZID=America/Chicago:20260614T130000
DTEND;TZID=America/Chicago:20260614T160000
DTSTAMP:20260423T100305
CREATED:20260413T212323Z
LAST-MODIFIED:20260413T212323Z
UID:10008405-1781442000-1781452800@roundtherocktx.com
SUMMARY:Celebrate America's 250th
DESCRIPTION:America will celebrate 250 years of independence in 2026. The Daniel Coleman Texas Society Daughters of the American Revolution\, the oldest DAR chapter in the county\, is leading a committee to celebrate America’s semiquincentennial in Williamson County on June 14\, 2026. Williamson County\, the Williamson Museum\, the Sons of the American Revolution and others are joining together to make it a memorable\, patriotic celebration! The event will be at Old Settlers Association\, 3300 Palm Valley Blvd.\, in Round Rock from 1 to 4 p.m. Food\, music and entertainment are part of this free event. Sponsorships are available.
URL:https://roundtherocktx.com/event/celebrate-americas-250th
LOCATION:Old Settlers Association of Williamson County\, 3300 Palm Valley Boulevard\, Round Rock\, TX\, 78665\, United States
CATEGORIES:Family,Kids,Nonprofit
ATTACH;FMTTYPE=image/png:https://roundtherocktx.com/wp-content/uploads/2026/04/2026-America-250-Wilco-logo-scaled-e1776115279899.png
END:VEVENT
END:VCALENDAR