BEGIN:VCALENDAR
VERSION:2.0
PRODID:-//Round the Rock - ECPv6.15.13//NONSGML v1.0//EN
CALSCALE:GREGORIAN
METHOD:PUBLISH
X-ORIGINAL-URL:https://roundtherocktx.com
X-WR-CALDESC:Events for Round the Rock
REFRESH-INTERVAL;VALUE=DURATION:PT1H
X-Robots-Tag:noindex
X-PUBLISHED-TTL:PT1H
BEGIN:VTIMEZONE
TZID:America/Chicago
BEGIN:DAYLIGHT
TZOFFSETFROM:-0600
TZOFFSETTO:-0500
TZNAME:CDT
DTSTART:20250309T080000
END:DAYLIGHT
BEGIN:STANDARD
TZOFFSETFROM:-0500
TZOFFSETTO:-0600
TZNAME:CST
DTSTART:20251102T070000
END:STANDARD
BEGIN:DAYLIGHT
TZOFFSETFROM:-0600
TZOFFSETTO:-0500
TZNAME:CDT
DTSTART:20260308T080000
END:DAYLIGHT
BEGIN:STANDARD
TZOFFSETFROM:-0500
TZOFFSETTO:-0600
TZNAME:CST
DTSTART:20261101T070000
END:STANDARD
BEGIN:DAYLIGHT
TZOFFSETFROM:-0600
TZOFFSETTO:-0500
TZNAME:CDT
DTSTART:20270314T080000
END:DAYLIGHT
BEGIN:STANDARD
TZOFFSETFROM:-0500
TZOFFSETTO:-0600
TZNAME:CST
DTSTART:20271107T070000
END:STANDARD
END:VTIMEZONE
BEGIN:VEVENT
DTSTART;TZID=America/Chicago:20260116T110000
DTEND;TZID=America/Chicago:20260116T130000
DTSTAMP:20260422T093837
CREATED:20260113T231556Z
LAST-MODIFIED:20260113T231556Z
UID:10007557-1768561200-1768568400@roundtherocktx.com
SUMMARY:Taco 'bout Business
DESCRIPTION:Tacos\, business\, and genuine connections—our favorite combination  Join us for Taco ’Bout Business\, where local professionals come together to network\, collaborate\, and enjoy fresh tacos while building meaningful relationships. Bring your business cards\, your appetite\, and your best conversation. We look forward to seeing you there!\n\n\nLocation:\nMaxliving Chiropractic – Tech Ridge\n12314 North Interstate Highway 35\n#Suite 108\nAustin\, TX 78753
URL:https://roundtherocktx.com/event/taco-bout-business
CATEGORIES:Business,Free
END:VEVENT
BEGIN:VEVENT
DTSTART;TZID=America/Chicago:20260117T123000
DTEND;TZID=America/Chicago:20260117T163000
DTSTAMP:20260422T093837
CREATED:20260114T163931Z
LAST-MODIFIED:20260114T163931Z
UID:10007560-1768653000-1768667400@roundtherocktx.com
SUMMARY:Pet Adoption Event by Wilco Animal Shelter
DESCRIPTION:Stop by to meet some amazing adoptable shelter animals! Wilco Animal Shelter will be at PetSmart Round Rock (NORTH location) from 12:30-4:30pm and these shelter animals cannot wait to meet you! \nPetSmart Round Rock (North location)\n201 University Oaks Blvd\nRound Rock\, TX \n  \n 
URL:https://roundtherocktx.com/event/pet-adoption-event-by-wilco-animal-shelter
CATEGORIES:Family,Free
ATTACH;FMTTYPE=image/jpeg:https://roundtherocktx.com/wp-content/uploads/2026/01/2026-Wilco-Animal-Shelter-Adoption-Event-at-Petsmart.jpg
END:VEVENT
BEGIN:VEVENT
DTSTART;TZID=America/Chicago:20260117T130000
DTEND;TZID=America/Chicago:20260117T150000
DTSTAMP:20260422T093838
CREATED:20260116T180314Z
LAST-MODIFIED:20260116T180314Z
UID:10007592-1768654800-1768662000@roundtherocktx.com
SUMMARY:Dr. Martin Luther King Jr. 39th Annual Commemorative Walk and Celebration
DESCRIPTION:The Round Rock Black History Organization in partnership with Round Rock ISD and the City of Round Rock invites the public to the 39th Annual Dr. Martin Luther King Jr Annual Commemorative Walk and Celebration. The event includes a march at 1:15 p.m.\, followed by a celebration and program at 2 p.m. \nDr. Anthony Watson\, principal of Stony Point High School\, will serve as keynote speaker. \nMarch participants will line up at Burke Realty Group (3121 Eagles Nest St.\, Suite 160) before proceeding to Sweet Home The Pinnacle of Praise (3200 Sunrise Road) for the program\, beginning at 2 p.m. \nThe public is invited to walk in the march. Banners are allowed. \nPlease note: March location has changed from initial location provided.
URL:https://roundtherocktx.com/event/dr-martin-luther-king-jr-39th-annual-commemorative-walk-and-celebration
CATEGORIES:Family,Free
ATTACH;FMTTYPE=image/jpeg:https://roundtherocktx.com/wp-content/uploads/2026/01/2026-MLK-RR-Event-e1768586578689.jpg
END:VEVENT
END:VCALENDAR