BEGIN:VCALENDAR
VERSION:2.0
PRODID:-//Round the Rock - ECPv6.15.13//NONSGML v1.0//EN
CALSCALE:GREGORIAN
METHOD:PUBLISH
X-WR-CALNAME:Round the Rock
X-ORIGINAL-URL:https://roundtherocktx.com
X-WR-CALDESC:Events for Round the Rock
REFRESH-INTERVAL;VALUE=DURATION:PT1H
X-Robots-Tag:noindex
X-PUBLISHED-TTL:PT1H
BEGIN:VTIMEZONE
TZID:America/Chicago
BEGIN:DAYLIGHT
TZOFFSETFROM:-0600
TZOFFSETTO:-0500
TZNAME:CDT
DTSTART:20250309T080000
END:DAYLIGHT
BEGIN:STANDARD
TZOFFSETFROM:-0500
TZOFFSETTO:-0600
TZNAME:CST
DTSTART:20251102T070000
END:STANDARD
BEGIN:DAYLIGHT
TZOFFSETFROM:-0600
TZOFFSETTO:-0500
TZNAME:CDT
DTSTART:20260308T080000
END:DAYLIGHT
BEGIN:STANDARD
TZOFFSETFROM:-0500
TZOFFSETTO:-0600
TZNAME:CST
DTSTART:20261101T070000
END:STANDARD
BEGIN:DAYLIGHT
TZOFFSETFROM:-0600
TZOFFSETTO:-0500
TZNAME:CDT
DTSTART:20270314T080000
END:DAYLIGHT
BEGIN:STANDARD
TZOFFSETFROM:-0500
TZOFFSETTO:-0600
TZNAME:CST
DTSTART:20271107T070000
END:STANDARD
END:VTIMEZONE
BEGIN:VEVENT
DTSTART;VALUE=DATE:20260503
DTEND;VALUE=DATE:20260505
DTSTAMP:20260419T123251
CREATED:20260217T220649Z
LAST-MODIFIED:20260217T220729Z
UID:10007765-1777770000-1777856399@roundtherocktx.com
SUMMARY:Charlotte's Web @ Zach
DESCRIPTION:After Fern saves Wilbur\, the runt of the litter\, it’s up to Charlotte the spider to spin a web of miracles. Featuring live bluegrass music and breathtaking aerial artistry\, this timeless tale of hope soars to new heights on stage. \nAge Recommendation: Ages 5 and up \nRun Time: 50 minutes with no intermission \nShows on Saturdays at 11am and Sundays at 2:30pm \nTICKETING AND SUBSCRIPTIONS: \nSingle tickets start at $21 (Youth) and $31 (Adults) and are available online at zachtheater.org\, or by phone at 512-476-0541 Tuesday through Friday\, 12–5 p.m. Free\, short-term\, and convenient parking is available at the front entrance. Zach Theater is wheelchair accessible. A limited number of Pay What You Wish tickets are available the first week of the performances only. Groups of 8 or more may request reservations by calling 512-476-0541 x126 or by emailing groupsales@zachtheater.org.
URL:https://roundtherocktx.com/event/charlottes-web-zach/2026-05-03
LOCATION:The Kleberg at Zach\, 1421 W Riverside Dr.\, Austin\, 78704\, United States
CATEGORIES:Family,Kids,Music
ATTACH;FMTTYPE=image/jpeg:https://roundtherocktx.com/wp-content/uploads/2026/02/Charlottes-Web-Key-Art-Update-w-Footer-e1770395138643.jpg
END:VEVENT
BEGIN:VEVENT
DTSTART;TZID=America/Chicago:20260504T173000
DTEND;TZID=America/Chicago:20260702T193000
DTSTAMP:20260419T123251
CREATED:20260116T175640Z
LAST-MODIFIED:20260116T175640Z
UID:10007582-1777915800-1783020600@roundtherocktx.com
SUMMARY:Un-Birthday Party
DESCRIPTION:The Round Rock Parks and Recreation Department and Casey’s Circle invite you to the 8th annual UN-Birthday Party! \nEveryone has 1 birthday a year\, which means we have 364 UN-Birthdays! \nIndividuals with disabilities and their families are invited to the Play for All Park for an evening of fun as we celebrate our UN-Birthdays together! The park will be closed to the public so that we can have full access to all of the fun the park has to offer\, as well as lots of extras planned just for attendees.\nEvent is open to all ages with disabilities. \nRegistration Coming Soon! Check the link below.
URL:https://roundtherocktx.com/event/un-birthday-party-2
LOCATION:Play for All Park\, 151 North A.W. Grimes Blvd.\, Round Rock\, TX\, 78665\, United States
CATEGORIES:Family,Kids
ATTACH;FMTTYPE=image/png:https://roundtherocktx.com/wp-content/uploads/2025/01/UN-Birthday-Header.png
END:VEVENT
BEGIN:VEVENT
DTSTART;TZID=America/Chicago:20260505T113000
DTEND;TZID=America/Chicago:20260505T130000
DTSTAMP:20260419T123251
CREATED:20260413T214647Z
LAST-MODIFIED:20260413T214736Z
UID:10008435-1777980600-1777986000@roundtherocktx.com
SUMMARY:Hometown Parklet Shows
DESCRIPTION:Tasty tunes for every appetite at this spring’s Hometown Lunchtime Parklet Shows! Our spring music series spans March 31–June 25\, 2026\, featuring free live performances every Tuesday and Thursday from 11:30 a.m.–1:00 p.m. in and around the Downtown Round Rock Parklets. \nHosted by the City of Round Rock Arts and Culture\, the series showcases everything from blues to bluegrass and jazz to folk\, country\, and a variety of music from around the world too. Grab your lunch or an iced coffee and enjoy a mid-day music break with us! \nSee the full schedule here.
URL:https://roundtherocktx.com/event/hometown-parklet-shows/2026-05-05
LOCATION:Downtown Round Rock\, 221 E. Main Street\, Round Rock\, 78664\, United States
CATEGORIES:Family,Kids,Music
ATTACH;FMTTYPE=image/jpeg:https://roundtherocktx.com/wp-content/uploads/2026/04/2026-Hometown-Parklet-Show-Logo-e1776116780500.jpg
ORGANIZER;CN="Round Rock Arts & Culture":MAILTO:swilkinson@roundrocktexas.gov
END:VEVENT
BEGIN:VEVENT
DTSTART;TZID=America/Chicago:20260505T160000
DTEND;TZID=America/Chicago:20260505T180000
DTSTAMP:20260419T123251
CREATED:20260414T211104Z
LAST-MODIFIED:20260414T211104Z
UID:10008458-1777996800-1778004000@roundtherocktx.com
SUMMARY:Cinco de Mayo @ ImageNet Consulting
DESCRIPTION:Join us at our Austin location on May 5th from 4:00 – 6:00pm for a festive evening of networking\, great food and drinks\, a live mariachi band\, and some phenomenal giveaways! Free to attend. \nRSVP to secure your spot! \nLocation:\nImageNet Consulting\n19001 N Heatherwilde Blvd\nBuilding 1 Ste. 100\nPflugerville\, TX 78660
URL:https://roundtherocktx.com/event/cinco-de-mayo-imagenet-consulting
CATEGORIES:Business,Free,Music
ATTACH;FMTTYPE=image/jpeg:https://roundtherocktx.com/wp-content/uploads/2026/04/Austin-Cinco-De-Mayo-Invite-e1776200730525.jpg
END:VEVENT
BEGIN:VEVENT
DTSTART;TZID=America/Chicago:20260505T170000
DTEND;TZID=America/Chicago:20260505T170000
DTSTAMP:20260419T123251
CREATED:20260222T162620Z
LAST-MODIFIED:20260222T162620Z
UID:10007781-1778000400-1778000400@roundtherocktx.com
SUMMARY:Celebration of Mothers Banquet
DESCRIPTION:Join us for the Celebration of Mothers Banquet on May 5th at the St. Williams Catholic Church Parish Evangelization Center—an evening of connection\, inspiration\, and impact.\n\n\n Dinner\, mariachi\, stories\, and more\n Support moms and babies served by AMH\n\n\n\nBanquet Schedule\n5:00 PM – Social Hour (Mariachi\, appetizers\, beer/wine/margaritas)\n6:00 PM – Dinner & ProgramSilent Auction and Raffle\n8:00 PM – Event EndsTickets & Tables\n$150 per person / $1\,500 Table for 10\n$2\,500 VIP Table (premium seating\, 2 champagne bottles\, upgraded wine\, VIP check-in\, recognition in program/slideshow/social media)\nRaffle $125 each / $525 for 5 / $1\,000 for 10\nSponsorships Start at $250\nAnnunciation Maternity Home is a registered charitable 501(c)(3) organization and contributions are fully deductible to the amount permitted by law. AMH provided no goods or services in consideration of your gifts. Please contact us if you need further details and consult a tax advisor about the deductibility of your gifts.
URL:https://roundtherocktx.com/event/celebration-of-mothers-banquet
LOCATION:Saint Williams Church\, 620 Round Rock W Drive\, Round Rock\, TX\, 78681\, United States
CATEGORIES:Nonprofit
ATTACH;FMTTYPE=image/png:https://roundtherocktx.com/wp-content/uploads/2026/02/2026-Annunciation-Celebration-of-Mothers-flyer.png
END:VEVENT
BEGIN:VEVENT
DTSTART;TZID=America/Chicago:20260506T190000
DTEND;TZID=America/Chicago:20260506T210000
DTSTAMP:20260419T123251
CREATED:20260222T171752Z
LAST-MODIFIED:20260222T172304Z
UID:10007804-1778094000-1778101200@roundtherocktx.com
SUMMARY:Music on Main (Spring and Summer 2026)
DESCRIPTION:Don’t miss out on the free fun! We’re excited to share weekly Wednesday nights with you and live music spanning across all genres during our Spring and Summer 2026 shows. Music on Main is a free concert series from the City of Round Rock Arts and Culture. \nMusic on Main concerts are free and family-friendly. We encourage you to bring your own lawn chairs or picnic blankets to enjoy the show. Bring your own picnic\, or grab takeout from a local business\, of which there are numerous nearby the show. Parking is free throughout Downtown Round Rock\, including City Hall Parking Garage. For more events\, programs\, and resources from the City of Round Rock Arts and Culture\, click here.  \nSpring Schedule: \nMARCH 25- THE REED BOTHERS (Americana\, rock\, blues) \nAPRIL 1- PARTY LIGHTS (Soul\, disco\, pop) \nAPRIL 8- ATASH (World music) \nAPRIL 15- HONEY MADE (Soul\, r&b) \nAPRIL 22- BRIAN WOLFF AND THE HOWLERS (Rock\, blues\, Americana) \nAPRIL 29 – DONOVAN KEITH (Soul\, funk\, rock) \nMAY 6- JULIE SLIM (Jazz) \nMAY 13- MIDNIGHT SNACK (Pop\, r&b) \nAY 20- STEPHANIE BERGARA (OF BIDI BIDI BANDA) (Tejano\, Pop) \nMAY 27- EXTREME HEAT (Funk\, soul) \n  \nSummer Schedule: \nJUNE 3- TOUCH OF TREY (Grateful Dead tribute band) \nJUNE 10- DEPARTURE ATX (Journey Tribute band) \nJUNE 17- BUFFALOE AND THE HEARD (Rock\, folk\, Americana) \nJUNE 24- MADAM RADAR (Americana\, rock)
URL:https://roundtherocktx.com/event/music-on-main-spring-and-summer-2026/2026-05-06
LOCATION:The Prete Plaza\, 221 East Main St\, Round Rock\, TX\, 78664\, United States
CATEGORIES:Family,Free,Kids,Music
ATTACH;FMTTYPE=image/jpeg:https://roundtherocktx.com/wp-content/uploads/2025/03/2025-Music-on-Main.jpg
ORGANIZER;CN="Round Rock Arts & Culture":MAILTO:swilkinson@roundrocktexas.gov
END:VEVENT
BEGIN:VEVENT
DTSTART;TZID=America/Chicago:20260507T100000
DTEND;TZID=America/Chicago:20260507T190000
DTSTAMP:20260419T123251
CREATED:20260224T045011Z
LAST-MODIFIED:20260224T045011Z
UID:10007963-1778148000-1778180400@roundtherocktx.com
SUMMARY:Round Rock Startup Day
DESCRIPTION:Welcome to Round Rock Startup Day – where innovation meets opportunity! Where our hope is that our vibrant community of entrepreneurs\, visionaries and trailblazers converge for an exciting event dedicated to fostering the spirit of innovation. \nJoin us on Thursday\, May 7\, 2026\, as we celebrate a thriving entrepreneurial ecosystem in Round Rock and beyond\, showcasing and building a culture of innovation. Whether you’re an aspiring entrepreneur\, seasoned professional or simply passionate about the startup ecosystem\, Round Rock Startup Day is your gateway to inspiration\, education and networking.
URL:https://roundtherocktx.com/event/round-rock-startup-day-2
LOCATION:Embassy Suites by Hilton Round Rock\, 270 Bass Pro Drive\, Round Rock\, 78665\, United States
CATEGORIES:Business,Free
ATTACH;FMTTYPE=image/jpeg:https://roundtherocktx.com/wp-content/uploads/2026/02/2026-Round-Rock-Start-Up-Day.Week_-e1771908590199.jpg
END:VEVENT
BEGIN:VEVENT
DTSTART;TZID=America/Chicago:20260507T113000
DTEND;TZID=America/Chicago:20260507T130000
DTSTAMP:20260419T123251
CREATED:20260413T214647Z
LAST-MODIFIED:20260413T214736Z
UID:10008436-1778153400-1778158800@roundtherocktx.com
SUMMARY:Hometown Parklet Shows
DESCRIPTION:Tasty tunes for every appetite at this spring’s Hometown Lunchtime Parklet Shows! Our spring music series spans March 31–June 25\, 2026\, featuring free live performances every Tuesday and Thursday from 11:30 a.m.–1:00 p.m. in and around the Downtown Round Rock Parklets. \nHosted by the City of Round Rock Arts and Culture\, the series showcases everything from blues to bluegrass and jazz to folk\, country\, and a variety of music from around the world too. Grab your lunch or an iced coffee and enjoy a mid-day music break with us! \nSee the full schedule here.
URL:https://roundtherocktx.com/event/hometown-parklet-shows/2026-05-07
LOCATION:Downtown Round Rock\, 221 E. Main Street\, Round Rock\, 78664\, United States
CATEGORIES:Family,Kids,Music
ATTACH;FMTTYPE=image/jpeg:https://roundtherocktx.com/wp-content/uploads/2026/04/2026-Hometown-Parklet-Show-Logo-e1776116780500.jpg
ORGANIZER;CN="Round Rock Arts & Culture":MAILTO:swilkinson@roundrocktexas.gov
END:VEVENT
BEGIN:VEVENT
DTSTART;TZID=America/Chicago:20260507T173000
DTEND;TZID=America/Chicago:20260507T203000
DTSTAMP:20260419T123251
CREATED:20260410T165602Z
LAST-MODIFIED:20260410T165602Z
UID:10008386-1778175000-1778185800@roundtherocktx.com
SUMMARY: Ladies Night at The Ring – Siete de Mayo Fiesta
DESCRIPTION:It’s time for our annual Ladies Night at The Ring… and this year we’re turning up the fun with a Siete de Mayo Fiesta!\nGrab your girlfriends and join us for an evening filled with great food\, drinks\, prizes\, and incredible shopping deals you won’t find any other time of year.\nWhat to Expect:\n Taco Bar Margaritas & Drinks FREE Swag Bags for the First 50 Ladies Door Prizes & Giveaways Throughout the Night\n Spring Clearance Event Select items discounted to WHOLESALE COST(Yes… you read that right )\n\n Why You Don’t Want to Miss This:\nThis is your chance to: Score amazing deals Update your jewelry collection Create your holiday wish list early Enjoy a fun night out with friends\nAt The Ring\, Ladies Night isn’t just an event… It’s a party
URL:https://roundtherocktx.com/event/ladies-night-at-the-ring-siete-de-mayo-fiesta
LOCATION:The Ring\, 110 E Anderson Lane\, Suite 100\, Round Rock\, 78664\, United States
CATEGORIES:21 and up,Business
ATTACH;FMTTYPE=image/jpeg:https://roundtherocktx.com/wp-content/uploads/2026/04/2026-The-Ring-May-event-e1775840124478.jpg
END:VEVENT
BEGIN:VEVENT
DTSTART;TZID=America/Chicago:20260507T190000
DTEND;TZID=America/Chicago:20260507T220000
DTSTAMP:20260419T123251
CREATED:20260116T174545Z
LAST-MODIFIED:20260116T174545Z
UID:10007586-1778180400-1778191200@roundtherocktx.com
SUMMARY:An Evening Under The Stars
DESCRIPTION:Dance the night away under the stars in the Baca Center’s beautiful Centennial Plaza. The event will feature music & dancing\, hors d’oeuvres & drinks. \n50+
URL:https://roundtherocktx.com/event/an-evening-under-the-stars
LOCATION:Baca Center\, 301 West Bagdad Avenue\, Round Rock\, TX\, 78664\, United States
CATEGORIES:21 and up
ATTACH;FMTTYPE=image/png:https://roundtherocktx.com/wp-content/uploads/2026/01/Screenshot-2026-01-16-110506.png
END:VEVENT
BEGIN:VEVENT
DTSTART;VALUE=DATE:20260509
DTEND;VALUE=DATE:20260511
DTSTAMP:20260419T123251
CREATED:20260217T220649Z
LAST-MODIFIED:20260217T220729Z
UID:10007766-1778288400-1778374799@roundtherocktx.com
SUMMARY:Charlotte's Web @ Zach
DESCRIPTION:After Fern saves Wilbur\, the runt of the litter\, it’s up to Charlotte the spider to spin a web of miracles. Featuring live bluegrass music and breathtaking aerial artistry\, this timeless tale of hope soars to new heights on stage. \nAge Recommendation: Ages 5 and up \nRun Time: 50 minutes with no intermission \nShows on Saturdays at 11am and Sundays at 2:30pm \nTICKETING AND SUBSCRIPTIONS: \nSingle tickets start at $21 (Youth) and $31 (Adults) and are available online at zachtheater.org\, or by phone at 512-476-0541 Tuesday through Friday\, 12–5 p.m. Free\, short-term\, and convenient parking is available at the front entrance. Zach Theater is wheelchair accessible. A limited number of Pay What You Wish tickets are available the first week of the performances only. Groups of 8 or more may request reservations by calling 512-476-0541 x126 or by emailing groupsales@zachtheater.org.
URL:https://roundtherocktx.com/event/charlottes-web-zach/2026-05-09
LOCATION:The Kleberg at Zach\, 1421 W Riverside Dr.\, Austin\, 78704\, United States
CATEGORIES:Family,Kids,Music
ATTACH;FMTTYPE=image/jpeg:https://roundtherocktx.com/wp-content/uploads/2026/02/Charlottes-Web-Key-Art-Update-w-Footer-e1770395138643.jpg
END:VEVENT
BEGIN:VEVENT
DTSTART;TZID=America/Chicago:20260509T070000
DTEND;TZID=America/Chicago:20260509T110000
DTSTAMP:20260419T123251
CREATED:20260116T180937Z
LAST-MODIFIED:20260116T180937Z
UID:10007583-1778310000-1778324400@roundtherocktx.com
SUMMARY:Donut Dash 5K
DESCRIPTION:Accept the ultimate donut challenge and join us for the 8th Annual Round Rock Donut Dash 5K on Saturday\, May 9th\, 2026. Warm up for the race at 6:45am at the starting line to get ready for a whirlwind of fun. Race starts in Downtown Round Rock at 7:00AM (No LATE start past 7:05am). In this unique event you’ll refuel with a mid-point pit stop for a donut (or a dozen!) from your favorite local donut shop. Join us for the post race after party at the finish line! \nRegister for the Challenger Division and put yourself to the ultimate test! Run half a 5k\, eat a dozen donuts\, and finish the run\, all under one hour to complete the challenge!  We also will have a Casual Division for those who want to run the race and eat their donuts on their own time and a ZERO K Division for those who just want to eat donuts and cheer the racers on. \nEarly Registration ends April 30th\, at which point registration prices will increase.
URL:https://roundtherocktx.com/event/donut-dash-5k-3
LOCATION:Downtown Round Rock\, 221 E. Main Street\, Round Rock\, 78664\, United States
CATEGORIES:Family,Kids
ATTACH;FMTTYPE=image/jpeg:https://roundtherocktx.com/wp-content/uploads/2022/03/Donut-Dash-2022.jpg
END:VEVENT
BEGIN:VEVENT
DTSTART;TZID=America/Chicago:20260509T100000
DTEND;TZID=America/Chicago:20260509T140000
DTSTAMP:20260419T123251
CREATED:20260225T002729Z
LAST-MODIFIED:20260225T002729Z
UID:10007980-1778320800-1778335200@roundtherocktx.com
SUMMARY:Round Rock Farmers Market
DESCRIPTION:Health experts\, farmers\, and chefs unanimously advocate for the benefits of seasonal eating\, emphasizing optimal nutrition and value. Proudly offering 100% locally grown\, in-season produce\, our mission is to serve as a premier resource for locally sourced\, responsibly raised food and products in Texas. Our vendors are committed to excellence\, ensuring the highest quality offerings for those in the Round Rock Area.
URL:https://roundtherocktx.com/event/round-rock-farmers-market/2026-05-09
LOCATION:Rock Creek Plaza\, 2111 N Interstate 35\, Round Rock\, 78664\, United States
CATEGORIES:Business,Family,Free,Kids
ATTACH;FMTTYPE=image/webp:https://roundtherocktx.com/wp-content/uploads/2024/02/farmergeorge-Face-1920w-e1771979222712.webp
ORGANIZER;CN="Farmer George Farmers Markets":MAILTO:vendors@farmergeorge.market
END:VEVENT
BEGIN:VEVENT
DTSTART;TZID=America/Chicago:20260509T150000
DTEND;TZID=America/Chicago:20260509T180000
DTSTAMP:20260419T123251
CREATED:20260413T225536Z
LAST-MODIFIED:20260413T225536Z
UID:10008456-1778338800-1778349600@roundtherocktx.com
SUMMARY:Dia de Las Madres Celebration
DESCRIPTION:Round Rock Balet Folklorico\, along with the Williamson County Hispanic Heritage Committee\, Univision Local Media-Austin\, Austin PBS\, and the City of Round Rock\, present the Sixteenth Annual Mother’s Day event\, Dia de Las Madres\, from 3 to 6 p.m.\, Saturday\, May 9\, at Prete Main Street Plaza. \nEnjoy arts and crafts for the kids\, face-painting\, and food\, and take pictures with Mom!
URL:https://roundtherocktx.com/event/dia-de-las-madres-celebration-3
LOCATION:The Prete Plaza\, 221 East Main St\, Round Rock\, TX\, 78664\, United States
CATEGORIES:Family,Free,Kids,Music,Nonprofit
ATTACH;FMTTYPE=image/jpeg:https://roundtherocktx.com/wp-content/uploads/2026/04/2026-Dia-de-las-madres-celebration-e1776120908758.jpg
END:VEVENT
BEGIN:VEVENT
DTSTART;VALUE=DATE:20260510
DTEND;VALUE=DATE:20260512
DTSTAMP:20260419T123251
CREATED:20260217T220649Z
LAST-MODIFIED:20260217T220729Z
UID:10007767-1778374800-1778461199@roundtherocktx.com
SUMMARY:Charlotte's Web @ Zach
DESCRIPTION:After Fern saves Wilbur\, the runt of the litter\, it’s up to Charlotte the spider to spin a web of miracles. Featuring live bluegrass music and breathtaking aerial artistry\, this timeless tale of hope soars to new heights on stage. \nAge Recommendation: Ages 5 and up \nRun Time: 50 minutes with no intermission \nShows on Saturdays at 11am and Sundays at 2:30pm \nTICKETING AND SUBSCRIPTIONS: \nSingle tickets start at $21 (Youth) and $31 (Adults) and are available online at zachtheater.org\, or by phone at 512-476-0541 Tuesday through Friday\, 12–5 p.m. Free\, short-term\, and convenient parking is available at the front entrance. Zach Theater is wheelchair accessible. A limited number of Pay What You Wish tickets are available the first week of the performances only. Groups of 8 or more may request reservations by calling 512-476-0541 x126 or by emailing groupsales@zachtheater.org.
URL:https://roundtherocktx.com/event/charlottes-web-zach/2026-05-10
LOCATION:The Kleberg at Zach\, 1421 W Riverside Dr.\, Austin\, 78704\, United States
CATEGORIES:Family,Kids,Music
ATTACH;FMTTYPE=image/jpeg:https://roundtherocktx.com/wp-content/uploads/2026/02/Charlottes-Web-Key-Art-Update-w-Footer-e1770395138643.jpg
END:VEVENT
END:VCALENDAR