BEGIN:VCALENDAR
VERSION:2.0
PRODID:-//Round the Rock - ECPv6.15.13//NONSGML v1.0//EN
CALSCALE:GREGORIAN
METHOD:PUBLISH
X-ORIGINAL-URL:https://roundtherocktx.com
X-WR-CALDESC:Events for Round the Rock
REFRESH-INTERVAL;VALUE=DURATION:PT1H
X-Robots-Tag:noindex
X-PUBLISHED-TTL:PT1H
BEGIN:VTIMEZONE
TZID:America/Chicago
BEGIN:DAYLIGHT
TZOFFSETFROM:-0600
TZOFFSETTO:-0500
TZNAME:CDT
DTSTART:20250309T080000
END:DAYLIGHT
BEGIN:STANDARD
TZOFFSETFROM:-0500
TZOFFSETTO:-0600
TZNAME:CST
DTSTART:20251102T070000
END:STANDARD
BEGIN:DAYLIGHT
TZOFFSETFROM:-0600
TZOFFSETTO:-0500
TZNAME:CDT
DTSTART:20260308T080000
END:DAYLIGHT
BEGIN:STANDARD
TZOFFSETFROM:-0500
TZOFFSETTO:-0600
TZNAME:CST
DTSTART:20261101T070000
END:STANDARD
BEGIN:DAYLIGHT
TZOFFSETFROM:-0600
TZOFFSETTO:-0500
TZNAME:CDT
DTSTART:20270314T080000
END:DAYLIGHT
BEGIN:STANDARD
TZOFFSETFROM:-0500
TZOFFSETTO:-0600
TZNAME:CST
DTSTART:20271107T070000
END:STANDARD
END:VTIMEZONE
BEGIN:VEVENT
DTSTART;TZID=America/Chicago:20260509T150000
DTEND;TZID=America/Chicago:20260509T180000
DTSTAMP:20260424T163317
CREATED:20260413T225536Z
LAST-MODIFIED:20260413T225536Z
UID:10008456-1778338800-1778349600@roundtherocktx.com
SUMMARY:Dia de Las Madres Celebration
DESCRIPTION:Round Rock Balet Folklorico\, along with the Williamson County Hispanic Heritage Committee\, Univision Local Media-Austin\, Austin PBS\, and the City of Round Rock\, present the Sixteenth Annual Mother’s Day event\, Dia de Las Madres\, from 3 to 6 p.m.\, Saturday\, May 9\, at Prete Main Street Plaza. \nEnjoy arts and crafts for the kids\, face-painting\, and food\, and take pictures with Mom!
URL:https://roundtherocktx.com/event/dia-de-las-madres-celebration-3
LOCATION:The Prete Plaza\, 221 East Main St\, Round Rock\, TX\, 78664\, United States
CATEGORIES:Family,Free,Kids,Music,Nonprofit
ATTACH;FMTTYPE=image/jpeg:https://roundtherocktx.com/wp-content/uploads/2026/04/2026-Dia-de-las-madres-celebration-e1776120908758.jpg
END:VEVENT
END:VCALENDAR