BEGIN:VCALENDAR
VERSION:2.0
PRODID:-//Round the Rock - ECPv6.15.13//NONSGML v1.0//EN
CALSCALE:GREGORIAN
METHOD:PUBLISH
X-ORIGINAL-URL:https://roundtherocktx.com
X-WR-CALDESC:Events for Round the Rock
REFRESH-INTERVAL;VALUE=DURATION:PT1H
X-Robots-Tag:noindex
X-PUBLISHED-TTL:PT1H
BEGIN:VTIMEZONE
TZID:America/Chicago
BEGIN:DAYLIGHT
TZOFFSETFROM:-0600
TZOFFSETTO:-0500
TZNAME:CDT
DTSTART:20240310T080000
END:DAYLIGHT
BEGIN:STANDARD
TZOFFSETFROM:-0500
TZOFFSETTO:-0600
TZNAME:CST
DTSTART:20241103T070000
END:STANDARD
BEGIN:DAYLIGHT
TZOFFSETFROM:-0600
TZOFFSETTO:-0500
TZNAME:CDT
DTSTART:20250309T080000
END:DAYLIGHT
BEGIN:STANDARD
TZOFFSETFROM:-0500
TZOFFSETTO:-0600
TZNAME:CST
DTSTART:20251102T070000
END:STANDARD
BEGIN:DAYLIGHT
TZOFFSETFROM:-0600
TZOFFSETTO:-0500
TZNAME:CDT
DTSTART:20260308T080000
END:DAYLIGHT
BEGIN:STANDARD
TZOFFSETFROM:-0500
TZOFFSETTO:-0600
TZNAME:CST
DTSTART:20261101T070000
END:STANDARD
BEGIN:DAYLIGHT
TZOFFSETFROM:-0600
TZOFFSETTO:-0500
TZNAME:CDT
DTSTART:20270314T080000
END:DAYLIGHT
BEGIN:STANDARD
TZOFFSETFROM:-0500
TZOFFSETTO:-0600
TZNAME:CST
DTSTART:20271107T070000
END:STANDARD
END:VTIMEZONE
BEGIN:VEVENT
DTSTART;TZID=America/Chicago:20260418T090000
DTEND;TZID=America/Chicago:20260418T140000
DTSTAMP:20260423T104529
CREATED:20260301T140627Z
LAST-MODIFIED:20260301T140627Z
UID:10008244-1776502800-1776520800@roundtherocktx.com
SUMMARY:Hutto Market Days
DESCRIPTION:Hutto Market Days is held on the third Saturday of each month\, located at The Gin at the Hutto Co-Op. Hutto Market Days primarily features local artisans and handmade products\, as well as booths for community groups and other businesses.
URL:https://roundtherocktx.com/event/hutto-market-days/2026-04-18
LOCATION:Gin at the Hutto Co-Op\, 420 US-79\, Hutto\, TX\, 78634\, United States
CATEGORIES:Business,Family,Free,Kids
ATTACH;FMTTYPE=image/jpeg:https://roundtherocktx.com/wp-content/uploads/2026/03/2026-Hutto-Market-Days-e1772373847383.jpg
END:VEVENT
BEGIN:VEVENT
DTSTART;TZID=America/Chicago:20260321T090000
DTEND;TZID=America/Chicago:20260321T140000
DTSTAMP:20260423T104529
CREATED:20260301T140627Z
LAST-MODIFIED:20260301T140627Z
UID:10008243-1774083600-1774101600@roundtherocktx.com
SUMMARY:Hutto Market Days
DESCRIPTION:Hutto Market Days is held on the third Saturday of each month\, located at The Gin at the Hutto Co-Op. Hutto Market Days primarily features local artisans and handmade products\, as well as booths for community groups and other businesses.
URL:https://roundtherocktx.com/event/hutto-market-days/2026-03-21
LOCATION:Gin at the Hutto Co-Op\, 420 US-79\, Hutto\, TX\, 78634\, United States
CATEGORIES:Business,Family,Free,Kids
ATTACH;FMTTYPE=image/jpeg:https://roundtherocktx.com/wp-content/uploads/2026/03/2026-Hutto-Market-Days-e1772373847383.jpg
END:VEVENT
BEGIN:VEVENT
DTSTART;TZID=America/Chicago:20251220T090000
DTEND;TZID=America/Chicago:20251220T150000
DTSTAMP:20260423T104529
CREATED:20250404T170345Z
LAST-MODIFIED:20250404T170345Z
UID:10005232-1766221200-1766242800@roundtherocktx.com
SUMMARY:Hutto Market Days
DESCRIPTION:Come shop amazing local vendors and artisans at our market. We are in Hutto on the 3rd Saturday of every month (March -December). Our family-friendly event is one you do not want to miss. \nDates: 3rd Saturday of each month (March-December)\nTime: 9:00 AM to 3:00 PM\nLocation: Gin at the Hutto Co-Op\, 420 US-79\, Hutto\, TX 78634\n\nHosted by: Urban Bloom Markets\nEmail: urbanbloommarkets@gmail.com
URL:https://roundtherocktx.com/event/outside-the-rock-hutto-market-days-2/2025-12-20
LOCATION:Gin at the Hutto Co-Op\, 420 US-79\, Hutto\, TX\, 78634\, United States
CATEGORIES:Business,Family,Free
ATTACH;FMTTYPE=image/png:https://roundtherocktx.com/wp-content/uploads/2024/12/2025-Hutto-Market-Days.png
END:VEVENT
BEGIN:VEVENT
DTSTART;TZID=America/Chicago:20251115T090000
DTEND;TZID=America/Chicago:20251115T150000
DTSTAMP:20260423T104529
CREATED:20250404T170345Z
LAST-MODIFIED:20250404T170345Z
UID:10005231-1763197200-1763218800@roundtherocktx.com
SUMMARY:Hutto Market Days
DESCRIPTION:Come shop amazing local vendors and artisans at our market. We are in Hutto on the 3rd Saturday of every month (March -December). Our family-friendly event is one you do not want to miss. \nDates: 3rd Saturday of each month (March-December)\nTime: 9:00 AM to 3:00 PM\nLocation: Gin at the Hutto Co-Op\, 420 US-79\, Hutto\, TX 78634\n\nHosted by: Urban Bloom Markets\nEmail: urbanbloommarkets@gmail.com
URL:https://roundtherocktx.com/event/outside-the-rock-hutto-market-days-2/2025-11-15
LOCATION:Gin at the Hutto Co-Op\, 420 US-79\, Hutto\, TX\, 78634\, United States
CATEGORIES:Business,Family,Free
ATTACH;FMTTYPE=image/png:https://roundtherocktx.com/wp-content/uploads/2024/12/2025-Hutto-Market-Days.png
END:VEVENT
BEGIN:VEVENT
DTSTART;TZID=America/Chicago:20251018T090000
DTEND;TZID=America/Chicago:20251018T150000
DTSTAMP:20260423T104529
CREATED:20250404T170345Z
LAST-MODIFIED:20250404T170345Z
UID:10005230-1760778000-1760799600@roundtherocktx.com
SUMMARY:Hutto Market Days
DESCRIPTION:Come shop amazing local vendors and artisans at our market. We are in Hutto on the 3rd Saturday of every month (March -December). Our family-friendly event is one you do not want to miss. \nDates: 3rd Saturday of each month (March-December)\nTime: 9:00 AM to 3:00 PM\nLocation: Gin at the Hutto Co-Op\, 420 US-79\, Hutto\, TX 78634\n\nHosted by: Urban Bloom Markets\nEmail: urbanbloommarkets@gmail.com
URL:https://roundtherocktx.com/event/outside-the-rock-hutto-market-days-2/2025-10-18
LOCATION:Gin at the Hutto Co-Op\, 420 US-79\, Hutto\, TX\, 78634\, United States
CATEGORIES:Business,Family,Free
ATTACH;FMTTYPE=image/png:https://roundtherocktx.com/wp-content/uploads/2024/12/2025-Hutto-Market-Days.png
END:VEVENT
BEGIN:VEVENT
DTSTART;TZID=America/Chicago:20250920T090000
DTEND;TZID=America/Chicago:20250920T150000
DTSTAMP:20260423T104529
CREATED:20250404T170345Z
LAST-MODIFIED:20250404T170345Z
UID:10005229-1758358800-1758380400@roundtherocktx.com
SUMMARY:Hutto Market Days
DESCRIPTION:Come shop amazing local vendors and artisans at our market. We are in Hutto on the 3rd Saturday of every month (March -December). Our family-friendly event is one you do not want to miss. \nDates: 3rd Saturday of each month (March-December)\nTime: 9:00 AM to 3:00 PM\nLocation: Gin at the Hutto Co-Op\, 420 US-79\, Hutto\, TX 78634\n\nHosted by: Urban Bloom Markets\nEmail: urbanbloommarkets@gmail.com
URL:https://roundtherocktx.com/event/outside-the-rock-hutto-market-days-2/2025-09-20
LOCATION:Gin at the Hutto Co-Op\, 420 US-79\, Hutto\, TX\, 78634\, United States
CATEGORIES:Business,Family,Free
ATTACH;FMTTYPE=image/png:https://roundtherocktx.com/wp-content/uploads/2024/12/2025-Hutto-Market-Days.png
END:VEVENT
BEGIN:VEVENT
DTSTART;TZID=America/Chicago:20250816T090000
DTEND;TZID=America/Chicago:20250816T150000
DTSTAMP:20260423T104529
CREATED:20250404T170345Z
LAST-MODIFIED:20250404T170345Z
UID:10005228-1755334800-1755356400@roundtherocktx.com
SUMMARY:Hutto Market Days
DESCRIPTION:Come shop amazing local vendors and artisans at our market. We are in Hutto on the 3rd Saturday of every month (March -December). Our family-friendly event is one you do not want to miss. \nDates: 3rd Saturday of each month (March-December)\nTime: 9:00 AM to 3:00 PM\nLocation: Gin at the Hutto Co-Op\, 420 US-79\, Hutto\, TX 78634\n\nHosted by: Urban Bloom Markets\nEmail: urbanbloommarkets@gmail.com
URL:https://roundtherocktx.com/event/outside-the-rock-hutto-market-days-2/2025-08-16
LOCATION:Gin at the Hutto Co-Op\, 420 US-79\, Hutto\, TX\, 78634\, United States
CATEGORIES:Business,Family,Free
ATTACH;FMTTYPE=image/png:https://roundtherocktx.com/wp-content/uploads/2024/12/2025-Hutto-Market-Days.png
END:VEVENT
BEGIN:VEVENT
DTSTART;TZID=America/Chicago:20250719T090000
DTEND;TZID=America/Chicago:20250719T150000
DTSTAMP:20260423T104529
CREATED:20250404T170345Z
LAST-MODIFIED:20250404T170345Z
UID:10005227-1752915600-1752937200@roundtherocktx.com
SUMMARY:Hutto Market Days
DESCRIPTION:Come shop amazing local vendors and artisans at our market. We are in Hutto on the 3rd Saturday of every month (March -December). Our family-friendly event is one you do not want to miss. \nDates: 3rd Saturday of each month (March-December)\nTime: 9:00 AM to 3:00 PM\nLocation: Gin at the Hutto Co-Op\, 420 US-79\, Hutto\, TX 78634\n\nHosted by: Urban Bloom Markets\nEmail: urbanbloommarkets@gmail.com
URL:https://roundtherocktx.com/event/outside-the-rock-hutto-market-days-2/2025-07-19
LOCATION:Gin at the Hutto Co-Op\, 420 US-79\, Hutto\, TX\, 78634\, United States
CATEGORIES:Business,Family,Free
ATTACH;FMTTYPE=image/png:https://roundtherocktx.com/wp-content/uploads/2024/12/2025-Hutto-Market-Days.png
END:VEVENT
BEGIN:VEVENT
DTSTART;TZID=America/Chicago:20250621T090000
DTEND;TZID=America/Chicago:20250621T150000
DTSTAMP:20260423T104529
CREATED:20250404T170345Z
LAST-MODIFIED:20250404T170345Z
UID:10005226-1750496400-1750518000@roundtherocktx.com
SUMMARY:Hutto Market Days
DESCRIPTION:Come shop amazing local vendors and artisans at our market. We are in Hutto on the 3rd Saturday of every month (March -December). Our family-friendly event is one you do not want to miss. \nDates: 3rd Saturday of each month (March-December)\nTime: 9:00 AM to 3:00 PM\nLocation: Gin at the Hutto Co-Op\, 420 US-79\, Hutto\, TX 78634\n\nHosted by: Urban Bloom Markets\nEmail: urbanbloommarkets@gmail.com
URL:https://roundtherocktx.com/event/outside-the-rock-hutto-market-days-2/2025-06-21
LOCATION:Gin at the Hutto Co-Op\, 420 US-79\, Hutto\, TX\, 78634\, United States
CATEGORIES:Business,Family,Free
ATTACH;FMTTYPE=image/png:https://roundtherocktx.com/wp-content/uploads/2024/12/2025-Hutto-Market-Days.png
END:VEVENT
BEGIN:VEVENT
DTSTART;TZID=America/Chicago:20250517T090000
DTEND;TZID=America/Chicago:20250517T150000
DTSTAMP:20260423T104529
CREATED:20250404T170345Z
LAST-MODIFIED:20250404T170345Z
UID:10005225-1747472400-1747494000@roundtherocktx.com
SUMMARY:Hutto Market Days
DESCRIPTION:Come shop amazing local vendors and artisans at our market. We are in Hutto on the 3rd Saturday of every month (March -December). Our family-friendly event is one you do not want to miss. \nDates: 3rd Saturday of each month (March-December)\nTime: 9:00 AM to 3:00 PM\nLocation: Gin at the Hutto Co-Op\, 420 US-79\, Hutto\, TX 78634\n\nHosted by: Urban Bloom Markets\nEmail: urbanbloommarkets@gmail.com
URL:https://roundtherocktx.com/event/outside-the-rock-hutto-market-days-2/2025-05-17
LOCATION:Gin at the Hutto Co-Op\, 420 US-79\, Hutto\, TX\, 78634\, United States
CATEGORIES:Business,Family,Free
ATTACH;FMTTYPE=image/png:https://roundtherocktx.com/wp-content/uploads/2024/12/2025-Hutto-Market-Days.png
END:VEVENT
BEGIN:VEVENT
DTSTART;TZID=America/Chicago:20250419T090000
DTEND;TZID=America/Chicago:20250419T150000
DTSTAMP:20260423T104529
CREATED:20250404T170345Z
LAST-MODIFIED:20250404T170345Z
UID:10005224-1745053200-1745074800@roundtherocktx.com
SUMMARY:Hutto Market Days
DESCRIPTION:Come shop amazing local vendors and artisans at our market. We are in Hutto on the 3rd Saturday of every month (March -December). Our family-friendly event is one you do not want to miss. \nDates: 3rd Saturday of each month (March-December)\nTime: 9:00 AM to 3:00 PM\nLocation: Gin at the Hutto Co-Op\, 420 US-79\, Hutto\, TX 78634\n\nHosted by: Urban Bloom Markets\nEmail: urbanbloommarkets@gmail.com
URL:https://roundtherocktx.com/event/outside-the-rock-hutto-market-days-2/2025-04-19
LOCATION:Gin at the Hutto Co-Op\, 420 US-79\, Hutto\, TX\, 78634\, United States
CATEGORIES:Business,Family,Free
ATTACH;FMTTYPE=image/png:https://roundtherocktx.com/wp-content/uploads/2024/12/2025-Hutto-Market-Days.png
END:VEVENT
BEGIN:VEVENT
DTSTART;TZID=America/Chicago:20250315T090000
DTEND;TZID=America/Chicago:20250315T150000
DTSTAMP:20260423T104529
CREATED:20250404T170345Z
LAST-MODIFIED:20250404T170345Z
UID:10005215-1742029200-1742050800@roundtherocktx.com
SUMMARY:Hutto Market Days
DESCRIPTION:Come shop amazing local vendors and artisans at our market. We are in Hutto on the 3rd Saturday of every month (March -December). Our family-friendly event is one you do not want to miss. \nDates: 3rd Saturday of each month (March-December)\nTime: 9:00 AM to 3:00 PM\nLocation: Gin at the Hutto Co-Op\, 420 US-79\, Hutto\, TX 78634\n\nHosted by: Urban Bloom Markets\nEmail: urbanbloommarkets@gmail.com
URL:https://roundtherocktx.com/event/outside-the-rock-hutto-market-days-2/2025-03-15
LOCATION:Gin at the Hutto Co-Op\, 420 US-79\, Hutto\, TX\, 78634\, United States
CATEGORIES:Business,Family,Free
ATTACH;FMTTYPE=image/png:https://roundtherocktx.com/wp-content/uploads/2024/12/2025-Hutto-Market-Days.png
END:VEVENT
BEGIN:VEVENT
DTSTART;TZID=America/Chicago:20250301T090000
DTEND;TZID=America/Chicago:20250301T150000
DTSTAMP:20260423T104529
CREATED:20241219T144032Z
LAST-MODIFIED:20250404T170017Z
UID:10003664-1740819600-1740841200@roundtherocktx.com
SUMMARY:Hutto Market Days
DESCRIPTION:Come shop amazing local vendors and artisans at our market. We are in Hutto on the 3rd Saturday of every month (March -December). Our family-friendly event is one you do not want to miss. \nDates: 3rd Saturday of each month (March-December)\nTime: 9:00 AM to 3:00 PM\nLocation: Gin at the Hutto Co-Op\, 420 US-79\, Hutto\, TX 78634\n\nHosted by: Urban Bloom Markets\nEmail: urbanbloommarkets@gmail.com
URL:https://roundtherocktx.com/event/outside-the-rock-hutto-market-days
LOCATION:Gin at the Hutto Co-Op\, 420 US-79\, Hutto\, TX\, 78634\, United States
CATEGORIES:Business,Family,Free
ATTACH;FMTTYPE=image/png:https://roundtherocktx.com/wp-content/uploads/2024/12/2025-Hutto-Market-Days.png
END:VEVENT
END:VCALENDAR