BEGIN:VCALENDAR
VERSION:2.0
PRODID:-//Round the Rock - ECPv6.15.13//NONSGML v1.0//EN
CALSCALE:GREGORIAN
METHOD:PUBLISH
X-ORIGINAL-URL:https://roundtherocktx.com
X-WR-CALDESC:Events for Round the Rock
REFRESH-INTERVAL;VALUE=DURATION:PT1H
X-Robots-Tag:noindex
X-PUBLISHED-TTL:PT1H
BEGIN:VTIMEZONE
TZID:America/Chicago
BEGIN:DAYLIGHT
TZOFFSETFROM:-0600
TZOFFSETTO:-0500
TZNAME:CDT
DTSTART:20250309T080000
END:DAYLIGHT
BEGIN:STANDARD
TZOFFSETFROM:-0500
TZOFFSETTO:-0600
TZNAME:CST
DTSTART:20251102T070000
END:STANDARD
BEGIN:DAYLIGHT
TZOFFSETFROM:-0600
TZOFFSETTO:-0500
TZNAME:CDT
DTSTART:20260308T080000
END:DAYLIGHT
BEGIN:STANDARD
TZOFFSETFROM:-0500
TZOFFSETTO:-0600
TZNAME:CST
DTSTART:20261101T070000
END:STANDARD
BEGIN:DAYLIGHT
TZOFFSETFROM:-0600
TZOFFSETTO:-0500
TZNAME:CDT
DTSTART:20270314T080000
END:DAYLIGHT
BEGIN:STANDARD
TZOFFSETFROM:-0500
TZOFFSETTO:-0600
TZNAME:CST
DTSTART:20271107T070000
END:STANDARD
END:VTIMEZONE
BEGIN:VEVENT
DTSTART;TZID=America/Chicago:20260516T090000
DTEND;TZID=America/Chicago:20260516T140000
DTSTAMP:20260423T090745
CREATED:20260301T140627Z
LAST-MODIFIED:20260301T140627Z
UID:10008245-1778922000-1778940000@roundtherocktx.com
SUMMARY:Hutto Market Days
DESCRIPTION:Hutto Market Days is held on the third Saturday of each month\, located at The Gin at the Hutto Co-Op. Hutto Market Days primarily features local artisans and handmade products\, as well as booths for community groups and other businesses.
URL:https://roundtherocktx.com/event/hutto-market-days/2026-05-16
LOCATION:Gin at the Hutto Co-Op\, 420 US-79\, Hutto\, TX\, 78634\, United States
CATEGORIES:Business,Family,Free,Kids
ATTACH;FMTTYPE=image/jpeg:https://roundtherocktx.com/wp-content/uploads/2026/03/2026-Hutto-Market-Days-e1772373847383.jpg
END:VEVENT
BEGIN:VEVENT
DTSTART;TZID=America/Chicago:20260620T090000
DTEND;TZID=America/Chicago:20260620T140000
DTSTAMP:20260423T090745
CREATED:20260301T140627Z
LAST-MODIFIED:20260301T140627Z
UID:10008246-1781946000-1781964000@roundtherocktx.com
SUMMARY:Hutto Market Days
DESCRIPTION:Hutto Market Days is held on the third Saturday of each month\, located at The Gin at the Hutto Co-Op. Hutto Market Days primarily features local artisans and handmade products\, as well as booths for community groups and other businesses.
URL:https://roundtherocktx.com/event/hutto-market-days/2026-06-20
LOCATION:Gin at the Hutto Co-Op\, 420 US-79\, Hutto\, TX\, 78634\, United States
CATEGORIES:Business,Family,Free,Kids
ATTACH;FMTTYPE=image/jpeg:https://roundtherocktx.com/wp-content/uploads/2026/03/2026-Hutto-Market-Days-e1772373847383.jpg
END:VEVENT
BEGIN:VEVENT
DTSTART;TZID=America/Chicago:20260718T090000
DTEND;TZID=America/Chicago:20260718T140000
DTSTAMP:20260423T090745
CREATED:20260301T140627Z
LAST-MODIFIED:20260301T140627Z
UID:10008247-1784365200-1784383200@roundtherocktx.com
SUMMARY:Hutto Market Days
DESCRIPTION:Hutto Market Days is held on the third Saturday of each month\, located at The Gin at the Hutto Co-Op. Hutto Market Days primarily features local artisans and handmade products\, as well as booths for community groups and other businesses.
URL:https://roundtherocktx.com/event/hutto-market-days/2026-07-18
LOCATION:Gin at the Hutto Co-Op\, 420 US-79\, Hutto\, TX\, 78634\, United States
CATEGORIES:Business,Family,Free,Kids
ATTACH;FMTTYPE=image/jpeg:https://roundtherocktx.com/wp-content/uploads/2026/03/2026-Hutto-Market-Days-e1772373847383.jpg
END:VEVENT
BEGIN:VEVENT
DTSTART;TZID=America/Chicago:20260815T090000
DTEND;TZID=America/Chicago:20260815T140000
DTSTAMP:20260423T090745
CREATED:20260301T140627Z
LAST-MODIFIED:20260301T140627Z
UID:10008248-1786784400-1786802400@roundtherocktx.com
SUMMARY:Hutto Market Days
DESCRIPTION:Hutto Market Days is held on the third Saturday of each month\, located at The Gin at the Hutto Co-Op. Hutto Market Days primarily features local artisans and handmade products\, as well as booths for community groups and other businesses.
URL:https://roundtherocktx.com/event/hutto-market-days/2026-08-15
LOCATION:Gin at the Hutto Co-Op\, 420 US-79\, Hutto\, TX\, 78634\, United States
CATEGORIES:Business,Family,Free,Kids
ATTACH;FMTTYPE=image/jpeg:https://roundtherocktx.com/wp-content/uploads/2026/03/2026-Hutto-Market-Days-e1772373847383.jpg
END:VEVENT
BEGIN:VEVENT
DTSTART;TZID=America/Chicago:20260919T090000
DTEND;TZID=America/Chicago:20260919T140000
DTSTAMP:20260423T090745
CREATED:20260301T140627Z
LAST-MODIFIED:20260301T140627Z
UID:10008249-1789808400-1789826400@roundtherocktx.com
SUMMARY:Hutto Market Days
DESCRIPTION:Hutto Market Days is held on the third Saturday of each month\, located at The Gin at the Hutto Co-Op. Hutto Market Days primarily features local artisans and handmade products\, as well as booths for community groups and other businesses.
URL:https://roundtherocktx.com/event/hutto-market-days/2026-09-19
LOCATION:Gin at the Hutto Co-Op\, 420 US-79\, Hutto\, TX\, 78634\, United States
CATEGORIES:Business,Family,Free,Kids
ATTACH;FMTTYPE=image/jpeg:https://roundtherocktx.com/wp-content/uploads/2026/03/2026-Hutto-Market-Days-e1772373847383.jpg
END:VEVENT
BEGIN:VEVENT
DTSTART;TZID=America/Chicago:20261017T090000
DTEND;TZID=America/Chicago:20261017T140000
DTSTAMP:20260423T090745
CREATED:20260301T140627Z
LAST-MODIFIED:20260301T140627Z
UID:10008250-1792227600-1792245600@roundtherocktx.com
SUMMARY:Hutto Market Days
DESCRIPTION:Hutto Market Days is held on the third Saturday of each month\, located at The Gin at the Hutto Co-Op. Hutto Market Days primarily features local artisans and handmade products\, as well as booths for community groups and other businesses.
URL:https://roundtherocktx.com/event/hutto-market-days/2026-10-17
LOCATION:Gin at the Hutto Co-Op\, 420 US-79\, Hutto\, TX\, 78634\, United States
CATEGORIES:Business,Family,Free,Kids
ATTACH;FMTTYPE=image/jpeg:https://roundtherocktx.com/wp-content/uploads/2026/03/2026-Hutto-Market-Days-e1772373847383.jpg
END:VEVENT
BEGIN:VEVENT
DTSTART;TZID=America/Chicago:20261121T090000
DTEND;TZID=America/Chicago:20261121T140000
DTSTAMP:20260423T090745
CREATED:20260301T140627Z
LAST-MODIFIED:20260301T140627Z
UID:10008251-1795251600-1795269600@roundtherocktx.com
SUMMARY:Hutto Market Days
DESCRIPTION:Hutto Market Days is held on the third Saturday of each month\, located at The Gin at the Hutto Co-Op. Hutto Market Days primarily features local artisans and handmade products\, as well as booths for community groups and other businesses.
URL:https://roundtherocktx.com/event/hutto-market-days/2026-11-21
LOCATION:Gin at the Hutto Co-Op\, 420 US-79\, Hutto\, TX\, 78634\, United States
CATEGORIES:Business,Family,Free,Kids
ATTACH;FMTTYPE=image/jpeg:https://roundtherocktx.com/wp-content/uploads/2026/03/2026-Hutto-Market-Days-e1772373847383.jpg
END:VEVENT
BEGIN:VEVENT
DTSTART;TZID=America/Chicago:20261219T090000
DTEND;TZID=America/Chicago:20261219T140000
DTSTAMP:20260423T090745
CREATED:20260301T140627Z
LAST-MODIFIED:20260301T140627Z
UID:10008252-1797670800-1797688800@roundtherocktx.com
SUMMARY:Hutto Market Days
DESCRIPTION:Hutto Market Days is held on the third Saturday of each month\, located at The Gin at the Hutto Co-Op. Hutto Market Days primarily features local artisans and handmade products\, as well as booths for community groups and other businesses.
URL:https://roundtherocktx.com/event/hutto-market-days/2026-12-19
LOCATION:Gin at the Hutto Co-Op\, 420 US-79\, Hutto\, TX\, 78634\, United States
CATEGORIES:Business,Family,Free,Kids
ATTACH;FMTTYPE=image/jpeg:https://roundtherocktx.com/wp-content/uploads/2026/03/2026-Hutto-Market-Days-e1772373847383.jpg
END:VEVENT
END:VCALENDAR