BEGIN:VCALENDAR
VERSION:2.0
PRODID:-//Round the Rock - ECPv6.15.13//NONSGML v1.0//EN
CALSCALE:GREGORIAN
METHOD:PUBLISH
X-WR-CALNAME:Round the Rock
X-ORIGINAL-URL:https://roundtherocktx.com
X-WR-CALDESC:Events for Round the Rock
REFRESH-INTERVAL;VALUE=DURATION:PT1H
X-Robots-Tag:noindex
X-PUBLISHED-TTL:PT1H
BEGIN:VTIMEZONE
TZID:America/Chicago
BEGIN:DAYLIGHT
TZOFFSETFROM:-0600
TZOFFSETTO:-0500
TZNAME:CDT
DTSTART:20230312T080000
END:DAYLIGHT
BEGIN:STANDARD
TZOFFSETFROM:-0500
TZOFFSETTO:-0600
TZNAME:CST
DTSTART:20231105T070000
END:STANDARD
BEGIN:DAYLIGHT
TZOFFSETFROM:-0600
TZOFFSETTO:-0500
TZNAME:CDT
DTSTART:20240310T080000
END:DAYLIGHT
BEGIN:STANDARD
TZOFFSETFROM:-0500
TZOFFSETTO:-0600
TZNAME:CST
DTSTART:20241103T070000
END:STANDARD
BEGIN:DAYLIGHT
TZOFFSETFROM:-0600
TZOFFSETTO:-0500
TZNAME:CDT
DTSTART:20250309T080000
END:DAYLIGHT
BEGIN:STANDARD
TZOFFSETFROM:-0500
TZOFFSETTO:-0600
TZNAME:CST
DTSTART:20251102T070000
END:STANDARD
END:VTIMEZONE
BEGIN:VEVENT
DTSTART;TZID=America/Chicago:20240918T100000
DTEND;TZID=America/Chicago:20240918T110000
DTSTAMP:20260421T072757
CREATED:20240913T010210Z
LAST-MODIFIED:20240914T000351Z
UID:10002898-1726653600-1726657200@roundtherocktx.com
SUMMARY:Google Fiber Round Rock Ribbon Cutting
DESCRIPTION:GFiber launch event in Round Rock \n\nPlease join us to celebrate a significant milestone in Google Fiber’s expansion to Round Rock. \nGFiber is beginning to serve customers in the city\, and we invite you to celebrate with us! \nThe special event will feature free coffee and breakfast*\, along with remarks from GFiber and City of Round Rock leadership. \nWednesday\, September 18\, 2024 at 10 a.m. \nKoughan Memorial Water Tower Park\n200 Round Rock Ave.\nRound Rock\, TX 78664\n \nRSVP: Kindly confirm your attendance by Tuesday\, September 17. Attendees can RSVP here: https://lnkd.in/gMeZEH9W \n*While supplies last\, limit 1 per person. Valid only on 9/18/24. \n\nGoogle Fiber has launched its high-speed internet services in Round Rock and they are having an event on Wednesday\, September 18\, in downtown Round Rock under the iconic water tower for a public celebration.🎉 Hear from the City of Round Rock and Google Fiber leaders\, and enjoy complimentary breakfast and coffee from local downtown Round Rock eateries.
URL:https://roundtherocktx.com/event/google-fiber-round-rock-ribbon-cutting
LOCATION:Koughan Memorial Water Tower Park aka Round Rock Tower\, 200 Round Rock Avenue\, Round Rock\, 78664\, United States
CATEGORIES:Business,Free
ATTACH;FMTTYPE=image/jpeg:https://roundtherocktx.com/wp-content/uploads/2024/09/google-Fiber-Launch-2024.jpg
END:VEVENT
END:VCALENDAR